BEGIN:VCALENDAR
VERSION:2.0
PRODID:-//Prayana - ECPv6.15.20//NONSGML v1.0//EN
CALSCALE:GREGORIAN
METHOD:PUBLISH
X-WR-CALNAME:Prayana
X-ORIGINAL-URL:https://prayanacoaching.com
X-WR-CALDESC:Events for Prayana
REFRESH-INTERVAL;VALUE=DURATION:PT1H
X-Robots-Tag:noindex
X-PUBLISHED-TTL:PT1H
BEGIN:VTIMEZONE
TZID:America/New_York
BEGIN:DAYLIGHT
TZOFFSETFROM:-0500
TZOFFSETTO:-0400
TZNAME:EDT
DTSTART:20210314T070000
END:DAYLIGHT
BEGIN:STANDARD
TZOFFSETFROM:-0400
TZOFFSETTO:-0500
TZNAME:EST
DTSTART:20211107T060000
END:STANDARD
BEGIN:DAYLIGHT
TZOFFSETFROM:-0500
TZOFFSETTO:-0400
TZNAME:EDT
DTSTART:20220313T070000
END:DAYLIGHT
BEGIN:STANDARD
TZOFFSETFROM:-0400
TZOFFSETTO:-0500
TZNAME:EST
DTSTART:20221106T060000
END:STANDARD
BEGIN:DAYLIGHT
TZOFFSETFROM:-0500
TZOFFSETTO:-0400
TZNAME:EDT
DTSTART:20230312T070000
END:DAYLIGHT
BEGIN:STANDARD
TZOFFSETFROM:-0400
TZOFFSETTO:-0500
TZNAME:EST
DTSTART:20231105T060000
END:STANDARD
END:VTIMEZONE
BEGIN:VEVENT
DTSTART;TZID=America/New_York:20220125T180000
DTEND;TZID=America/New_York:20220125T190000
DTSTAMP:20260425T081603
CREATED:20211230T163729Z
LAST-MODIFIED:20211230T163729Z
UID:1316-1643133600-1643137200@prayanacoaching.com
SUMMARY:Gentle Yoga
DESCRIPTION:Stretch\, breathe\, release\, repeat. An excellent class for beginners and advanced yogis alike\, Gentle Yoga is what it says! No pretzel-twisted poses\, no standing on one toe\, no marathon stretches. This is a peaceful\, guided practice to help focus your mind\, relieve tension\, and enhance flexibility.
URL:https://prayanacoaching.com/event/gentle-yoga-107/
LOCATION:Be Spa\, 241 Three Springs Dr. Ste 5-7\, Weirton\, WV\, 26062\, United States
CATEGORIES:Weekly Classes
ATTACH;FMTTYPE=image/png:https://prayanacoaching.com/wp-content/uploads/2021/05/Untitled-design34.png
ORGANIZER;CN="Katie Short":MAILTO:katieshort@prayanacoaching.com
END:VEVENT
BEGIN:VEVENT
DTSTART;TZID=America/New_York:20220125T100000
DTEND;TZID=America/New_York:20220125T110000
DTSTAMP:20260425T081603
CREATED:20211230T163627Z
LAST-MODIFIED:20211230T163627Z
UID:1314-1643104800-1643108400@prayanacoaching.com
SUMMARY:Gentle Yoga
DESCRIPTION:Stretch\, breathe\, release\, repeat. An excellent class for beginners and advanced yogis alike\, Gentle Yoga is what it says! No pretzel-twisted poses\, no standing on one toe\, no marathon stretches. This is a peaceful\, guided practice to help focus your mind\, relieve tension\, and enhance flexibility.
URL:https://prayanacoaching.com/event/gentle-yoga-106/
LOCATION:Be Spa\, 241 Three Springs Dr. Ste 5-7\, Weirton\, WV\, 26062\, United States
CATEGORIES:Weekly Classes
ATTACH;FMTTYPE=image/png:https://prayanacoaching.com/wp-content/uploads/2021/05/Untitled-design34.png
ORGANIZER;CN="Katie Short":MAILTO:katieshort@prayanacoaching.com
END:VEVENT
BEGIN:VEVENT
DTSTART;TZID=America/New_York:20220125T080000
DTEND;TZID=America/New_York:20220125T090000
DTSTAMP:20260425T081603
CREATED:20211230T163517Z
LAST-MODIFIED:20211230T163517Z
UID:1312-1643097600-1643101200@prayanacoaching.com
SUMMARY:Rise & Shine Yoga
DESCRIPTION:A gentle but invigorating practice\, this class is designed to help you get moving\, be motivated\, and face your day with positivity! Accessible for all levels\, this class will help you jump-start your morning\, or help you to refocus when mornings are hectic.
URL:https://prayanacoaching.com/event/rise-shine-yoga-39/
LOCATION:Be Spa\, 241 Three Springs Dr. Ste 5-7\, Weirton\, WV\, 26062\, United States
CATEGORIES:Weekly Classes
ATTACH;FMTTYPE=image/png:https://prayanacoaching.com/wp-content/uploads/2021/07/Untitled-design16.png
ORGANIZER;CN="Katie Short":MAILTO:katieshort@prayanacoaching.com
END:VEVENT
BEGIN:VEVENT
DTSTART;TZID=America/New_York:20220123T170000
DTEND;TZID=America/New_York:20220123T180000
DTSTAMP:20260425T081603
CREATED:20211230T163412Z
LAST-MODIFIED:20211230T163412Z
UID:1310-1642957200-1642960800@prayanacoaching.com
SUMMARY:Hot Power Yoga
DESCRIPTION:This class is a true “slow burn”. Move through powerful yoga sequences with purpose\, focus your mind\, and leave the stresses of the week on your mat. Heat and movement together help to aid your body’s natural detox\, soothe stiff joints\, ease tight muscles\, and burn extra pounds. You can expect lots of movement\, a few challenges\, and options to adapt poses to your needs. You’ll then be pampered with chilled towels during savasana\, with added aromatherapy for those who choose (scent-free towels are also available). Please bring water\, and a towel if you feel it might be helpful.
URL:https://prayanacoaching.com/event/hot-power-yoga-4/
LOCATION:Be Spa\, 241 Three Springs Dr. Ste 5-7\, Weirton\, WV\, 26062\, United States
CATEGORIES:Weekly Classes
ATTACH;FMTTYPE=image/png:https://prayanacoaching.com/wp-content/uploads/2021/12/Copy-of-Copy-of-Unnamed-Design.png
ORGANIZER;CN="Katie Short":MAILTO:katieshort@prayanacoaching.com
END:VEVENT
BEGIN:VEVENT
DTSTART;TZID=America/New_York:20220121T100000
DTEND;TZID=America/New_York:20220121T110000
DTSTAMP:20260425T081603
CREATED:20211230T163256Z
LAST-MODIFIED:20211230T163256Z
UID:1308-1642759200-1642762800@prayanacoaching.com
SUMMARY:Gentle Yoga
DESCRIPTION:Stretch\, breathe\, release\, repeat. An excellent class for beginners and advanced yogis alike\, Gentle Yoga is what it says! No pretzel-twisted poses\, no standing on one toe\, no marathon stretches. This is a peaceful\, guided practice to help focus your mind\, relieve tension\, and enhance flexibility.
URL:https://prayanacoaching.com/event/gentle-yoga-105/
LOCATION:Be Spa\, 241 Three Springs Dr. Ste 5-7\, Weirton\, WV\, 26062\, United States
CATEGORIES:Weekly Classes
ATTACH;FMTTYPE=image/png:https://prayanacoaching.com/wp-content/uploads/2021/05/Untitled-design34.png
ORGANIZER;CN="Katie Short":MAILTO:katieshort@prayanacoaching.com
END:VEVENT
BEGIN:VEVENT
DTSTART;TZID=America/New_York:20220121T090000
DTEND;TZID=America/New_York:20220121T100000
DTSTAMP:20260425T081603
CREATED:20211230T162752Z
LAST-MODIFIED:20211230T162752Z
UID:1304-1642755600-1642759200@prayanacoaching.com
SUMMARY:Empowering Yoga
DESCRIPTION:This practice is focused on strength\, both mental and physical. Yes\, it’s a workout\, but you’ll discover more than just physical benefits! Find enhanced mental clarity\, elevated mood\, empowered spirit\, and renewed energy. Beginners welcome!
URL:https://prayanacoaching.com/event/empowering-yoga-74/
LOCATION:Be Spa\, 241 Three Springs Dr. Ste 5-7\, Weirton\, WV\, 26062\, United States
CATEGORIES:Weekly Classes
ATTACH;FMTTYPE=image/png:https://prayanacoaching.com/wp-content/uploads/2021/04/Untitled-design11.png
ORGANIZER;CN="Katie Short":MAILTO:katieshort@prayanacoaching.com
END:VEVENT
BEGIN:VEVENT
DTSTART;TZID=America/New_York:20220121T080000
DTEND;TZID=America/New_York:20220121T090000
DTSTAMP:20260425T081603
CREATED:20211230T162641Z
LAST-MODIFIED:20211230T162641Z
UID:1302-1642752000-1642755600@prayanacoaching.com
SUMMARY:Rise & Shine Yoga
DESCRIPTION:A gentle but invigorating practice\, this class is designed to help you get moving\, be motivated\, and face your day with positivity! Accessible for all levels\, this class will help you jump-start your morning\, or help you to refocus when mornings are hectic.
URL:https://prayanacoaching.com/event/rise-shine-yoga-38/
LOCATION:Be Spa\, 241 Three Springs Dr. Ste 5-7\, Weirton\, WV\, 26062\, United States
CATEGORIES:Weekly Classes
ATTACH;FMTTYPE=image/png:https://prayanacoaching.com/wp-content/uploads/2021/07/Untitled-design16.png
ORGANIZER;CN="Katie Short":MAILTO:katieshort@prayanacoaching.com
END:VEVENT
BEGIN:VEVENT
DTSTART;TZID=America/New_York:20220120T183000
DTEND;TZID=America/New_York:20220120T193000
DTSTAMP:20260425T081603
CREATED:20211230T162524Z
LAST-MODIFIED:20211230T162524Z
UID:1300-1642703400-1642707000@prayanacoaching.com
SUMMARY:Empowering Yoga
DESCRIPTION:This practice is focused on strength\, both mental and physical. Yes\, it’s a workout\, but you’ll discover more than just physical benefits! Find enhanced mental clarity\, elevated mood\, empowered spirit\, and renewed energy. Beginners welcome!
URL:https://prayanacoaching.com/event/empowering-yoga-73/
LOCATION:Be Spa\, 241 Three Springs Dr. Ste 5-7\, Weirton\, WV\, 26062\, United States
CATEGORIES:Weekly Classes
ATTACH;FMTTYPE=image/png:https://prayanacoaching.com/wp-content/uploads/2021/04/Untitled-design11.png
ORGANIZER;CN="Katie Short":MAILTO:katieshort@prayanacoaching.com
END:VEVENT
BEGIN:VEVENT
DTSTART;TZID=America/New_York:20220119T100000
DTEND;TZID=America/New_York:20220119T110000
DTSTAMP:20260425T081603
CREATED:20211230T162425Z
LAST-MODIFIED:20211230T162425Z
UID:1298-1642586400-1642590000@prayanacoaching.com
SUMMARY:Gentle Yoga
DESCRIPTION:Stretch\, breathe\, release\, repeat. An excellent class for beginners and advanced yogis alike\, Gentle Yoga is what it says! No pretzel-twisted poses\, no standing on one toe\, no marathon stretches. This is a peaceful\, guided practice to help focus your mind\, relieve tension\, and enhance flexibility.
URL:https://prayanacoaching.com/event/gentle-yoga-104/
LOCATION:Be Spa\, 241 Three Springs Dr. Ste 5-7\, Weirton\, WV\, 26062\, United States
CATEGORIES:Weekly Classes
ATTACH;FMTTYPE=image/png:https://prayanacoaching.com/wp-content/uploads/2021/05/Untitled-design34.png
ORGANIZER;CN="Katie Short":MAILTO:katieshort@prayanacoaching.com
END:VEVENT
BEGIN:VEVENT
DTSTART;TZID=America/New_York:20220119T090000
DTEND;TZID=America/New_York:20220119T100000
DTSTAMP:20260425T081603
CREATED:20211230T162323Z
LAST-MODIFIED:20211230T162323Z
UID:1296-1642582800-1642586400@prayanacoaching.com
SUMMARY:Empowering Yoga
DESCRIPTION:This practice is focused on strength\, both mental and physical. Yes\, it’s a workout\, but you’ll discover more than just physical benefits! Find enhanced mental clarity\, elevated mood\, empowered spirit\, and renewed energy. Beginners welcome!
URL:https://prayanacoaching.com/event/empowering-yoga-72/
LOCATION:Be Spa\, 241 Three Springs Dr. Ste 5-7\, Weirton\, WV\, 26062\, United States
CATEGORIES:Weekly Classes
ATTACH;FMTTYPE=image/png:https://prayanacoaching.com/wp-content/uploads/2021/04/Untitled-design11.png
ORGANIZER;CN="Katie Short":MAILTO:katieshort@prayanacoaching.com
END:VEVENT
BEGIN:VEVENT
DTSTART;TZID=America/New_York:20220118T190000
DTEND;TZID=America/New_York:20220118T200000
DTSTAMP:20260425T081603
CREATED:20211230T162229Z
LAST-MODIFIED:20211230T162229Z
UID:1294-1642532400-1642536000@prayanacoaching.com
SUMMARY:Empowering Yoga
DESCRIPTION:This practice is focused on strength\, both mental and physical. Yes\, it’s a workout\, but you’ll discover more than just physical benefits! Find enhanced mental clarity\, elevated mood\, empowered spirit\, and renewed energy. Beginners welcome!
URL:https://prayanacoaching.com/event/empowering-yoga-71/
LOCATION:Be Spa\, 241 Three Springs Dr. Ste 5-7\, Weirton\, WV\, 26062\, United States
CATEGORIES:Weekly Classes
ATTACH;FMTTYPE=image/png:https://prayanacoaching.com/wp-content/uploads/2021/04/Untitled-design11.png
ORGANIZER;CN="Katie Short":MAILTO:katieshort@prayanacoaching.com
END:VEVENT
BEGIN:VEVENT
DTSTART;TZID=America/New_York:20220118T180000
DTEND;TZID=America/New_York:20220118T190000
DTSTAMP:20260425T081603
CREATED:20211230T162130Z
LAST-MODIFIED:20211230T162130Z
UID:1292-1642528800-1642532400@prayanacoaching.com
SUMMARY:Gentle Yoga
DESCRIPTION:Stretch\, breathe\, release\, repeat. An excellent class for beginners and advanced yogis alike\, Gentle Yoga is what it says! No pretzel-twisted poses\, no standing on one toe\, no marathon stretches. This is a peaceful\, guided practice to help focus your mind\, relieve tension\, and enhance flexibility.
URL:https://prayanacoaching.com/event/gentle-yoga-103/
LOCATION:Be Spa\, 241 Three Springs Dr. Ste 5-7\, Weirton\, WV\, 26062\, United States
CATEGORIES:Weekly Classes
ATTACH;FMTTYPE=image/png:https://prayanacoaching.com/wp-content/uploads/2021/05/Untitled-design34.png
ORGANIZER;CN="Katie Short":MAILTO:katieshort@prayanacoaching.com
END:VEVENT
BEGIN:VEVENT
DTSTART;TZID=America/New_York:20220118T100000
DTEND;TZID=America/New_York:20220118T110000
DTSTAMP:20260425T081603
CREATED:20211230T162020Z
LAST-MODIFIED:20211230T162020Z
UID:1290-1642500000-1642503600@prayanacoaching.com
SUMMARY:Gentle Yoga
DESCRIPTION:Stretch\, breathe\, release\, repeat. An excellent class for beginners and advanced yogis alike\, Gentle Yoga is what it says! No pretzel-twisted poses\, no standing on one toe\, no marathon stretches. This is a peaceful\, guided practice to help focus your mind\, relieve tension\, and enhance flexibility.
URL:https://prayanacoaching.com/event/gentle-yoga-102/
LOCATION:Be Spa\, 241 Three Springs Dr. Ste 5-7\, Weirton\, WV\, 26062\, United States
CATEGORIES:Weekly Classes
ATTACH;FMTTYPE=image/png:https://prayanacoaching.com/wp-content/uploads/2021/05/Untitled-design34.png
ORGANIZER;CN="Katie Short":MAILTO:katieshort@prayanacoaching.com
END:VEVENT
BEGIN:VEVENT
DTSTART;TZID=America/New_York:20220118T080000
DTEND;TZID=America/New_York:20220118T090000
DTSTAMP:20260425T081603
CREATED:20211230T161916Z
LAST-MODIFIED:20211230T161916Z
UID:1288-1642492800-1642496400@prayanacoaching.com
SUMMARY:Rise & Shine Yoga
DESCRIPTION:A gentle but invigorating practice\, this class is designed to help you get moving\, be motivated\, and face your day with positivity! Accessible for all levels\, this class will help you jump-start your morning\, or help you to refocus when mornings are hectic.
URL:https://prayanacoaching.com/event/rise-shine-yoga-37/
LOCATION:Be Spa\, 241 Three Springs Dr. Ste 5-7\, Weirton\, WV\, 26062\, United States
CATEGORIES:Weekly Classes
ATTACH;FMTTYPE=image/png:https://prayanacoaching.com/wp-content/uploads/2021/07/Untitled-design16.png
ORGANIZER;CN="Katie Short":MAILTO:katieshort@prayanacoaching.com
END:VEVENT
BEGIN:VEVENT
DTSTART;TZID=America/New_York:20220116T170000
DTEND;TZID=America/New_York:20220116T180000
DTSTAMP:20260425T081603
CREATED:20211230T161807Z
LAST-MODIFIED:20211230T161807Z
UID:1286-1642352400-1642356000@prayanacoaching.com
SUMMARY:Hot Power Yoga
DESCRIPTION:This class is a true “slow burn”. Move through powerful yoga sequences with purpose\, focus your mind\, and leave the stresses of the week on your mat. Heat and movement together help to aid your body’s natural detox\, soothe stiff joints\, ease tight muscles\, and burn extra pounds. You can expect lots of movement\, a few challenges\, and options to adapt poses to your needs. You’ll then be pampered with chilled towels during savasana\, with added aromatherapy for those who choose (scent-free towels are also available). Please bring water\, and a towel if you feel it might be helpful.
URL:https://prayanacoaching.com/event/hot-power-yoga-3/
LOCATION:Be Spa\, 241 Three Springs Dr. Ste 5-7\, Weirton\, WV\, 26062\, United States
CATEGORIES:Weekly Classes
ATTACH;FMTTYPE=image/png:https://prayanacoaching.com/wp-content/uploads/2021/12/Copy-of-Copy-of-Unnamed-Design.png
ORGANIZER;CN="Katie Short":MAILTO:katieshort@prayanacoaching.com
END:VEVENT
BEGIN:VEVENT
DTSTART;TZID=America/New_York:20220114T100000
DTEND;TZID=America/New_York:20220114T110000
DTSTAMP:20260425T081603
CREATED:20211230T161655Z
LAST-MODIFIED:20211230T161655Z
UID:1284-1642154400-1642158000@prayanacoaching.com
SUMMARY:Gentle Yoga
DESCRIPTION:Stretch\, breathe\, release\, repeat. An excellent class for beginners and advanced yogis alike\, Gentle Yoga is what it says! No pretzel-twisted poses\, no standing on one toe\, no marathon stretches. This is a peaceful\, guided practice to help focus your mind\, relieve tension\, and enhance flexibility.
URL:https://prayanacoaching.com/event/gentle-yoga-101/
LOCATION:Be Spa\, 241 Three Springs Dr. Ste 5-7\, Weirton\, WV\, 26062\, United States
CATEGORIES:Weekly Classes
ATTACH;FMTTYPE=image/png:https://prayanacoaching.com/wp-content/uploads/2021/05/Untitled-design34.png
ORGANIZER;CN="Katie Short":MAILTO:katieshort@prayanacoaching.com
END:VEVENT
BEGIN:VEVENT
DTSTART;TZID=America/New_York:20220114T090000
DTEND;TZID=America/New_York:20220114T100000
DTSTAMP:20260425T081603
CREATED:20211230T161551Z
LAST-MODIFIED:20211230T161551Z
UID:1282-1642150800-1642154400@prayanacoaching.com
SUMMARY:Empowering Yoga
DESCRIPTION:This practice is focused on strength\, both mental and physical. Yes\, it’s a workout\, but you’ll discover more than just physical benefits! Find enhanced mental clarity\, elevated mood\, empowered spirit\, and renewed energy. Beginners welcome!
URL:https://prayanacoaching.com/event/empowering-yoga-70/
LOCATION:Be Spa\, 241 Three Springs Dr. Ste 5-7\, Weirton\, WV\, 26062\, United States
CATEGORIES:Weekly Classes
ATTACH;FMTTYPE=image/png:https://prayanacoaching.com/wp-content/uploads/2021/04/Untitled-design11.png
ORGANIZER;CN="Katie Short":MAILTO:katieshort@prayanacoaching.com
END:VEVENT
BEGIN:VEVENT
DTSTART;TZID=America/New_York:20220114T080000
DTEND;TZID=America/New_York:20220114T090000
DTSTAMP:20260425T081603
CREATED:20211230T160059Z
LAST-MODIFIED:20211230T160059Z
UID:1277-1642147200-1642150800@prayanacoaching.com
SUMMARY:Rise & Shine Yoga
DESCRIPTION:A gentle but invigorating practice\, this class is designed to help you get moving\, be motivated\, and face your day with positivity! Accessible for all levels\, this class will help you jump-start your morning\, or help you to refocus when mornings are hectic.
URL:https://prayanacoaching.com/event/rise-shine-yoga-36/
LOCATION:Be Spa\, 241 Three Springs Dr. Ste 5-7\, Weirton\, WV\, 26062\, United States
CATEGORIES:Weekly Classes
ATTACH;FMTTYPE=image/png:https://prayanacoaching.com/wp-content/uploads/2021/07/Untitled-design16.png
ORGANIZER;CN="Katie Short":MAILTO:katieshort@prayanacoaching.com
END:VEVENT
BEGIN:VEVENT
DTSTART;TZID=America/New_York:20220113T183000
DTEND;TZID=America/New_York:20220113T193000
DTSTAMP:20260425T081603
CREATED:20211230T155945Z
LAST-MODIFIED:20211230T155945Z
UID:1275-1642098600-1642102200@prayanacoaching.com
SUMMARY:Empowering Yoga
DESCRIPTION:This practice is focused on strength\, both mental and physical. Yes\, it’s a workout\, but you’ll discover more than just physical benefits! Find enhanced mental clarity\, elevated mood\, empowered spirit\, and renewed energy. Beginners welcome!
URL:https://prayanacoaching.com/event/empowering-yoga-69/
LOCATION:Be Spa\, 241 Three Springs Dr. Ste 5-7\, Weirton\, WV\, 26062\, United States
CATEGORIES:Weekly Classes
ATTACH;FMTTYPE=image/png:https://prayanacoaching.com/wp-content/uploads/2021/04/Untitled-design11.png
ORGANIZER;CN="Katie Short":MAILTO:katieshort@prayanacoaching.com
END:VEVENT
BEGIN:VEVENT
DTSTART;TZID=America/New_York:20220112T100000
DTEND;TZID=America/New_York:20220112T110000
DTSTAMP:20260425T081603
CREATED:20211230T155818Z
LAST-MODIFIED:20211230T155818Z
UID:1273-1641981600-1641985200@prayanacoaching.com
SUMMARY:Gentle Yoga
DESCRIPTION:Stretch\, breathe\, release\, repeat. An excellent class for beginners and advanced yogis alike\, Gentle Yoga is what it says! No pretzel-twisted poses\, no standing on one toe\, no marathon stretches. This is a peaceful\, guided practice to help focus your mind\, relieve tension\, and enhance flexibility.
URL:https://prayanacoaching.com/event/gentle-yoga-99/
LOCATION:Be Spa\, 241 Three Springs Dr. Ste 5-7\, Weirton\, WV\, 26062\, United States
CATEGORIES:Weekly Classes
ATTACH;FMTTYPE=image/png:https://prayanacoaching.com/wp-content/uploads/2021/05/Untitled-design34.png
ORGANIZER;CN="Katie Short":MAILTO:katieshort@prayanacoaching.com
END:VEVENT
BEGIN:VEVENT
DTSTART;TZID=America/New_York:20220112T090000
DTEND;TZID=America/New_York:20220112T100000
DTSTAMP:20260425T081603
CREATED:20211230T155613Z
LAST-MODIFIED:20211230T155613Z
UID:1271-1641978000-1641981600@prayanacoaching.com
SUMMARY:Empowering Yoga
DESCRIPTION:This practice is focused on strength\, both mental and physical. Yes\, it’s a workout\, but you’ll discover more than just physical benefits! Find enhanced mental clarity\, elevated mood\, empowered spirit\, and renewed energy. Beginners welcome!
URL:https://prayanacoaching.com/event/empowering-yoga-68/
LOCATION:Be Spa\, 241 Three Springs Dr. Ste 5-7\, Weirton\, WV\, 26062\, United States
CATEGORIES:Weekly Classes
ATTACH;FMTTYPE=image/png:https://prayanacoaching.com/wp-content/uploads/2021/04/Untitled-design11.png
ORGANIZER;CN="Katie Short":MAILTO:katieshort@prayanacoaching.com
END:VEVENT
BEGIN:VEVENT
DTSTART;TZID=America/New_York:20220111T190000
DTEND;TZID=America/New_York:20220111T200000
DTSTAMP:20260425T081603
CREATED:20211230T155449Z
LAST-MODIFIED:20211230T155449Z
UID:1269-1641927600-1641931200@prayanacoaching.com
SUMMARY:Empowering Yoga
DESCRIPTION:This practice is focused on strength\, both mental and physical. Yes\, it’s a workout\, but you’ll discover more than just physical benefits! Find enhanced mental clarity\, elevated mood\, empowered spirit\, and renewed energy. Beginners welcome!
URL:https://prayanacoaching.com/event/empowering-yoga-67/
LOCATION:Be Spa\, 241 Three Springs Dr. Ste 5-7\, Weirton\, WV\, 26062\, United States
CATEGORIES:Weekly Classes
ATTACH;FMTTYPE=image/png:https://prayanacoaching.com/wp-content/uploads/2021/04/Untitled-design11.png
ORGANIZER;CN="Katie Short":MAILTO:katieshort@prayanacoaching.com
END:VEVENT
BEGIN:VEVENT
DTSTART;TZID=America/New_York:20220111T180000
DTEND;TZID=America/New_York:20220111T190000
DTSTAMP:20260425T081603
CREATED:20211230T155017Z
LAST-MODIFIED:20211230T155017Z
UID:1267-1641924000-1641927600@prayanacoaching.com
SUMMARY:Gentle Yoga
DESCRIPTION:Stretch\, breathe\, release\, repeat. An excellent class for beginners and advanced yogis alike\, Gentle Yoga is what it says! No pretzel-twisted poses\, no standing on one toe\, no marathon stretches. This is a peaceful\, guided practice to help focus your mind\, relieve tension\, and enhance flexibility.
URL:https://prayanacoaching.com/event/gentle-yoga-98/
LOCATION:Be Spa\, 241 Three Springs Dr. Ste 5-7\, Weirton\, WV\, 26062\, United States
CATEGORIES:Weekly Classes
ATTACH;FMTTYPE=image/png:https://prayanacoaching.com/wp-content/uploads/2021/05/Untitled-design34.png
ORGANIZER;CN="Katie Short":MAILTO:katieshort@prayanacoaching.com
END:VEVENT
BEGIN:VEVENT
DTSTART;TZID=America/New_York:20220111T100000
DTEND;TZID=America/New_York:20220111T110000
DTSTAMP:20260425T081603
CREATED:20211230T154902Z
LAST-MODIFIED:20211230T154902Z
UID:1265-1641895200-1641898800@prayanacoaching.com
SUMMARY:Gentle Yoga
DESCRIPTION:Stretch\, breathe\, release\, repeat. An excellent class for beginners and advanced yogis alike\, Gentle Yoga is what it says! No pretzel-twisted poses\, no standing on one toe\, no marathon stretches. This is a peaceful\, guided practice to help focus your mind\, relieve tension\, and enhance flexibility.
URL:https://prayanacoaching.com/event/gentle-yoga-97/
LOCATION:Be Spa\, 241 Three Springs Dr. Ste 5-7\, Weirton\, WV\, 26062\, United States
CATEGORIES:Weekly Classes
ATTACH;FMTTYPE=image/png:https://prayanacoaching.com/wp-content/uploads/2021/05/Untitled-design34.png
ORGANIZER;CN="Katie Short":MAILTO:katieshort@prayanacoaching.com
END:VEVENT
BEGIN:VEVENT
DTSTART;TZID=America/New_York:20220111T080000
DTEND;TZID=America/New_York:20220111T090000
DTSTAMP:20260425T081603
CREATED:20211230T154710Z
LAST-MODIFIED:20211230T154710Z
UID:1263-1641888000-1641891600@prayanacoaching.com
SUMMARY:Rise & Shine Yoga
DESCRIPTION:A gentle but invigorating practice\, this class is designed to help you get moving\, be motivated\, and face your day with positivity! Accessible for all levels\, this class will help you jump-start your morning\, or help you to refocus when mornings are hectic.
URL:https://prayanacoaching.com/event/rise-shine-yoga-35/
LOCATION:Be Spa\, 241 Three Springs Dr. Ste 5-7\, Weirton\, WV\, 26062\, United States
CATEGORIES:Weekly Classes
ATTACH;FMTTYPE=image/png:https://prayanacoaching.com/wp-content/uploads/2021/07/Untitled-design16.png
ORGANIZER;CN="Katie Short":MAILTO:katieshort@prayanacoaching.com
END:VEVENT
BEGIN:VEVENT
DTSTART;TZID=America/New_York:20220109T170000
DTEND;TZID=America/New_York:20220109T180000
DTSTAMP:20260425T081603
CREATED:20211230T154607Z
LAST-MODIFIED:20211230T154607Z
UID:1261-1641747600-1641751200@prayanacoaching.com
SUMMARY:Hot Power Yoga
DESCRIPTION:This class is a true “slow burn”. Move through powerful yoga sequences with purpose\, focus your mind\, and leave the stresses of the week on your mat. Heat and movement together help to aid your body’s natural detox\, soothe stiff joints\, ease tight muscles\, and burn extra pounds. You can expect lots of movement\, a few challenges\, and options to adapt poses to your needs. You’ll then be pampered with chilled towels during savasana\, with added aromatherapy for those who choose (scent-free towels are also available). Please bring water\, and a towel if you feel it might be helpful.
URL:https://prayanacoaching.com/event/hot-power-yoga-2/
LOCATION:Be Spa\, 241 Three Springs Dr. Ste 5-7\, Weirton\, WV\, 26062\, United States
CATEGORIES:Weekly Classes
ATTACH;FMTTYPE=image/png:https://prayanacoaching.com/wp-content/uploads/2021/12/Copy-of-Copy-of-Unnamed-Design.png
ORGANIZER;CN="Katie Short":MAILTO:katieshort@prayanacoaching.com
END:VEVENT
BEGIN:VEVENT
DTSTART;TZID=America/New_York:20220107T100000
DTEND;TZID=America/New_York:20220107T110000
DTSTAMP:20260425T081603
CREATED:20211230T161250Z
LAST-MODIFIED:20211230T161250Z
UID:1280-1641549600-1641553200@prayanacoaching.com
SUMMARY:Gentle Yoga
DESCRIPTION:Stretch\, breathe\, release\, repeat. An excellent class for beginners and advanced yogis alike\, Gentle Yoga is what it says! No pretzel-twisted poses\, no standing on one toe\, no marathon stretches. This is a peaceful\, guided practice to help focus your mind\, relieve tension\, and enhance flexibility.
URL:https://prayanacoaching.com/event/gentle-yoga-100/
LOCATION:Be Spa\, 241 Three Springs Dr. Ste 5-7\, Weirton\, WV\, 26062\, United States
CATEGORIES:Weekly Classes
ATTACH;FMTTYPE=image/png:https://prayanacoaching.com/wp-content/uploads/2021/05/Untitled-design34.png
ORGANIZER;CN="Katie Short":MAILTO:katieshort@prayanacoaching.com
END:VEVENT
BEGIN:VEVENT
DTSTART;TZID=America/New_York:20220107T090000
DTEND;TZID=America/New_York:20220107T100000
DTSTAMP:20260425T081603
CREATED:20211230T154440Z
LAST-MODIFIED:20211230T154440Z
UID:1259-1641546000-1641549600@prayanacoaching.com
SUMMARY:Empowering Yoga
DESCRIPTION:This practice is focused on strength\, both mental and physical. Yes\, it’s a workout\, but you’ll discover more than just physical benefits! Find enhanced mental clarity\, elevated mood\, empowered spirit\, and renewed energy. Beginners welcome!
URL:https://prayanacoaching.com/event/empowering-yoga-66/
LOCATION:Be Spa\, 241 Three Springs Dr. Ste 5-7\, Weirton\, WV\, 26062\, United States
CATEGORIES:Weekly Classes
ATTACH;FMTTYPE=image/png:https://prayanacoaching.com/wp-content/uploads/2021/04/Untitled-design11.png
ORGANIZER;CN="Katie Short":MAILTO:katieshort@prayanacoaching.com
END:VEVENT
BEGIN:VEVENT
DTSTART;TZID=America/New_York:20220107T080000
DTEND;TZID=America/New_York:20220107T090000
DTSTAMP:20260425T081603
CREATED:20211230T154057Z
LAST-MODIFIED:20211230T154057Z
UID:1257-1641542400-1641546000@prayanacoaching.com
SUMMARY:Rise & Shine Yoga
DESCRIPTION:A gentle but invigorating practice\, this class is designed to help you get moving\, be motivated\, and face your day with positivity! Accessible for all levels\, this class will help you jump-start your morning\, or help you to refocus when mornings are hectic.
URL:https://prayanacoaching.com/event/rise-shine-yoga-34/
LOCATION:Be Spa\, 241 Three Springs Dr. Ste 5-7\, Weirton\, WV\, 26062\, United States
CATEGORIES:Weekly Classes
ATTACH;FMTTYPE=image/png:https://prayanacoaching.com/wp-content/uploads/2021/07/Untitled-design16.png
ORGANIZER;CN="Katie Short":MAILTO:katieshort@prayanacoaching.com
END:VEVENT
BEGIN:VEVENT
DTSTART;TZID=America/New_York:20220106T183000
DTEND;TZID=America/New_York:20220106T193000
DTSTAMP:20260425T081603
CREATED:20211230T153919Z
LAST-MODIFIED:20211230T153919Z
UID:1255-1641493800-1641497400@prayanacoaching.com
SUMMARY:Empowering Yoga
DESCRIPTION:This practice is focused on strength\, both mental and physical. Yes\, it’s a workout\, but you’ll discover more than just physical benefits! Find enhanced mental clarity\, elevated mood\, empowered spirit\, and renewed energy. Beginners welcome!
URL:https://prayanacoaching.com/event/empowering-yoga-65/
LOCATION:Be Spa\, 241 Three Springs Dr. Ste 5-7\, Weirton\, WV\, 26062\, United States
CATEGORIES:Weekly Classes
ATTACH;FMTTYPE=image/png:https://prayanacoaching.com/wp-content/uploads/2021/04/Untitled-design11.png
ORGANIZER;CN="Katie Short":MAILTO:katieshort@prayanacoaching.com
END:VEVENT
END:VCALENDAR