BEGIN:VCALENDAR
VERSION:2.0
PRODID:-//Prayana - ECPv6.15.20//NONSGML v1.0//EN
CALSCALE:GREGORIAN
METHOD:PUBLISH
X-ORIGINAL-URL:https://prayanacoaching.com
X-WR-CALDESC:Events for Prayana
REFRESH-INTERVAL;VALUE=DURATION:PT1H
X-Robots-Tag:noindex
X-PUBLISHED-TTL:PT1H
BEGIN:VTIMEZONE
TZID:America/New_York
BEGIN:DAYLIGHT
TZOFFSETFROM:-0500
TZOFFSETTO:-0400
TZNAME:EDT
DTSTART:20200308T070000
END:DAYLIGHT
BEGIN:STANDARD
TZOFFSETFROM:-0400
TZOFFSETTO:-0500
TZNAME:EST
DTSTART:20201101T060000
END:STANDARD
BEGIN:DAYLIGHT
TZOFFSETFROM:-0500
TZOFFSETTO:-0400
TZNAME:EDT
DTSTART:20210314T070000
END:DAYLIGHT
BEGIN:STANDARD
TZOFFSETFROM:-0400
TZOFFSETTO:-0500
TZNAME:EST
DTSTART:20211107T060000
END:STANDARD
BEGIN:DAYLIGHT
TZOFFSETFROM:-0500
TZOFFSETTO:-0400
TZNAME:EDT
DTSTART:20220313T070000
END:DAYLIGHT
BEGIN:STANDARD
TZOFFSETFROM:-0400
TZOFFSETTO:-0500
TZNAME:EST
DTSTART:20221106T060000
END:STANDARD
BEGIN:DAYLIGHT
TZOFFSETFROM:-0500
TZOFFSETTO:-0400
TZNAME:EDT
DTSTART:20230312T070000
END:DAYLIGHT
BEGIN:STANDARD
TZOFFSETFROM:-0400
TZOFFSETTO:-0500
TZNAME:EST
DTSTART:20231105T060000
END:STANDARD
END:VTIMEZONE
BEGIN:VEVENT
DTSTART;TZID=America/New_York:20220112T090000
DTEND;TZID=America/New_York:20220112T100000
DTSTAMP:20260425T112743
CREATED:20211230T155613Z
LAST-MODIFIED:20211230T155613Z
UID:1271-1641978000-1641981600@prayanacoaching.com
SUMMARY:Empowering Yoga
DESCRIPTION:This practice is focused on strength\, both mental and physical. Yes\, it’s a workout\, but you’ll discover more than just physical benefits! Find enhanced mental clarity\, elevated mood\, empowered spirit\, and renewed energy. Beginners welcome!
URL:https://prayanacoaching.com/event/empowering-yoga-68/
LOCATION:Be Spa\, 241 Three Springs Dr. Ste 5-7\, Weirton\, WV\, 26062\, United States
CATEGORIES:Weekly Classes
ATTACH;FMTTYPE=image/png:https://prayanacoaching.com/wp-content/uploads/2021/04/Untitled-design11.png
ORGANIZER;CN="Katie Short":MAILTO:katieshort@prayanacoaching.com
END:VEVENT
BEGIN:VEVENT
DTSTART;TZID=America/New_York:20220111T190000
DTEND;TZID=America/New_York:20220111T200000
DTSTAMP:20260425T112743
CREATED:20211230T155449Z
LAST-MODIFIED:20211230T155449Z
UID:1269-1641927600-1641931200@prayanacoaching.com
SUMMARY:Empowering Yoga
DESCRIPTION:This practice is focused on strength\, both mental and physical. Yes\, it’s a workout\, but you’ll discover more than just physical benefits! Find enhanced mental clarity\, elevated mood\, empowered spirit\, and renewed energy. Beginners welcome!
URL:https://prayanacoaching.com/event/empowering-yoga-67/
LOCATION:Be Spa\, 241 Three Springs Dr. Ste 5-7\, Weirton\, WV\, 26062\, United States
CATEGORIES:Weekly Classes
ATTACH;FMTTYPE=image/png:https://prayanacoaching.com/wp-content/uploads/2021/04/Untitled-design11.png
ORGANIZER;CN="Katie Short":MAILTO:katieshort@prayanacoaching.com
END:VEVENT
BEGIN:VEVENT
DTSTART;TZID=America/New_York:20220111T180000
DTEND;TZID=America/New_York:20220111T190000
DTSTAMP:20260425T112743
CREATED:20211230T155017Z
LAST-MODIFIED:20211230T155017Z
UID:1267-1641924000-1641927600@prayanacoaching.com
SUMMARY:Gentle Yoga
DESCRIPTION:Stretch\, breathe\, release\, repeat. An excellent class for beginners and advanced yogis alike\, Gentle Yoga is what it says! No pretzel-twisted poses\, no standing on one toe\, no marathon stretches. This is a peaceful\, guided practice to help focus your mind\, relieve tension\, and enhance flexibility.
URL:https://prayanacoaching.com/event/gentle-yoga-98/
LOCATION:Be Spa\, 241 Three Springs Dr. Ste 5-7\, Weirton\, WV\, 26062\, United States
CATEGORIES:Weekly Classes
ATTACH;FMTTYPE=image/png:https://prayanacoaching.com/wp-content/uploads/2021/05/Untitled-design34.png
ORGANIZER;CN="Katie Short":MAILTO:katieshort@prayanacoaching.com
END:VEVENT
BEGIN:VEVENT
DTSTART;TZID=America/New_York:20220111T100000
DTEND;TZID=America/New_York:20220111T110000
DTSTAMP:20260425T112743
CREATED:20211230T154902Z
LAST-MODIFIED:20211230T154902Z
UID:1265-1641895200-1641898800@prayanacoaching.com
SUMMARY:Gentle Yoga
DESCRIPTION:Stretch\, breathe\, release\, repeat. An excellent class for beginners and advanced yogis alike\, Gentle Yoga is what it says! No pretzel-twisted poses\, no standing on one toe\, no marathon stretches. This is a peaceful\, guided practice to help focus your mind\, relieve tension\, and enhance flexibility.
URL:https://prayanacoaching.com/event/gentle-yoga-97/
LOCATION:Be Spa\, 241 Three Springs Dr. Ste 5-7\, Weirton\, WV\, 26062\, United States
CATEGORIES:Weekly Classes
ATTACH;FMTTYPE=image/png:https://prayanacoaching.com/wp-content/uploads/2021/05/Untitled-design34.png
ORGANIZER;CN="Katie Short":MAILTO:katieshort@prayanacoaching.com
END:VEVENT
BEGIN:VEVENT
DTSTART;TZID=America/New_York:20220111T080000
DTEND;TZID=America/New_York:20220111T090000
DTSTAMP:20260425T112743
CREATED:20211230T154710Z
LAST-MODIFIED:20211230T154710Z
UID:1263-1641888000-1641891600@prayanacoaching.com
SUMMARY:Rise & Shine Yoga
DESCRIPTION:A gentle but invigorating practice\, this class is designed to help you get moving\, be motivated\, and face your day with positivity! Accessible for all levels\, this class will help you jump-start your morning\, or help you to refocus when mornings are hectic.
URL:https://prayanacoaching.com/event/rise-shine-yoga-35/
LOCATION:Be Spa\, 241 Three Springs Dr. Ste 5-7\, Weirton\, WV\, 26062\, United States
CATEGORIES:Weekly Classes
ATTACH;FMTTYPE=image/png:https://prayanacoaching.com/wp-content/uploads/2021/07/Untitled-design16.png
ORGANIZER;CN="Katie Short":MAILTO:katieshort@prayanacoaching.com
END:VEVENT
BEGIN:VEVENT
DTSTART;TZID=America/New_York:20220109T170000
DTEND;TZID=America/New_York:20220109T180000
DTSTAMP:20260425T112743
CREATED:20211230T154607Z
LAST-MODIFIED:20211230T154607Z
UID:1261-1641747600-1641751200@prayanacoaching.com
SUMMARY:Hot Power Yoga
DESCRIPTION:This class is a true “slow burn”. Move through powerful yoga sequences with purpose\, focus your mind\, and leave the stresses of the week on your mat. Heat and movement together help to aid your body’s natural detox\, soothe stiff joints\, ease tight muscles\, and burn extra pounds. You can expect lots of movement\, a few challenges\, and options to adapt poses to your needs. You’ll then be pampered with chilled towels during savasana\, with added aromatherapy for those who choose (scent-free towels are also available). Please bring water\, and a towel if you feel it might be helpful.
URL:https://prayanacoaching.com/event/hot-power-yoga-2/
LOCATION:Be Spa\, 241 Three Springs Dr. Ste 5-7\, Weirton\, WV\, 26062\, United States
CATEGORIES:Weekly Classes
ATTACH;FMTTYPE=image/png:https://prayanacoaching.com/wp-content/uploads/2021/12/Copy-of-Copy-of-Unnamed-Design.png
ORGANIZER;CN="Katie Short":MAILTO:katieshort@prayanacoaching.com
END:VEVENT
BEGIN:VEVENT
DTSTART;TZID=America/New_York:20220107T100000
DTEND;TZID=America/New_York:20220107T110000
DTSTAMP:20260425T112743
CREATED:20211230T161250Z
LAST-MODIFIED:20211230T161250Z
UID:1280-1641549600-1641553200@prayanacoaching.com
SUMMARY:Gentle Yoga
DESCRIPTION:Stretch\, breathe\, release\, repeat. An excellent class for beginners and advanced yogis alike\, Gentle Yoga is what it says! No pretzel-twisted poses\, no standing on one toe\, no marathon stretches. This is a peaceful\, guided practice to help focus your mind\, relieve tension\, and enhance flexibility.
URL:https://prayanacoaching.com/event/gentle-yoga-100/
LOCATION:Be Spa\, 241 Three Springs Dr. Ste 5-7\, Weirton\, WV\, 26062\, United States
CATEGORIES:Weekly Classes
ATTACH;FMTTYPE=image/png:https://prayanacoaching.com/wp-content/uploads/2021/05/Untitled-design34.png
ORGANIZER;CN="Katie Short":MAILTO:katieshort@prayanacoaching.com
END:VEVENT
BEGIN:VEVENT
DTSTART;TZID=America/New_York:20220107T090000
DTEND;TZID=America/New_York:20220107T100000
DTSTAMP:20260425T112743
CREATED:20211230T154440Z
LAST-MODIFIED:20211230T154440Z
UID:1259-1641546000-1641549600@prayanacoaching.com
SUMMARY:Empowering Yoga
DESCRIPTION:This practice is focused on strength\, both mental and physical. Yes\, it’s a workout\, but you’ll discover more than just physical benefits! Find enhanced mental clarity\, elevated mood\, empowered spirit\, and renewed energy. Beginners welcome!
URL:https://prayanacoaching.com/event/empowering-yoga-66/
LOCATION:Be Spa\, 241 Three Springs Dr. Ste 5-7\, Weirton\, WV\, 26062\, United States
CATEGORIES:Weekly Classes
ATTACH;FMTTYPE=image/png:https://prayanacoaching.com/wp-content/uploads/2021/04/Untitled-design11.png
ORGANIZER;CN="Katie Short":MAILTO:katieshort@prayanacoaching.com
END:VEVENT
BEGIN:VEVENT
DTSTART;TZID=America/New_York:20220107T080000
DTEND;TZID=America/New_York:20220107T090000
DTSTAMP:20260425T112743
CREATED:20211230T154057Z
LAST-MODIFIED:20211230T154057Z
UID:1257-1641542400-1641546000@prayanacoaching.com
SUMMARY:Rise & Shine Yoga
DESCRIPTION:A gentle but invigorating practice\, this class is designed to help you get moving\, be motivated\, and face your day with positivity! Accessible for all levels\, this class will help you jump-start your morning\, or help you to refocus when mornings are hectic.
URL:https://prayanacoaching.com/event/rise-shine-yoga-34/
LOCATION:Be Spa\, 241 Three Springs Dr. Ste 5-7\, Weirton\, WV\, 26062\, United States
CATEGORIES:Weekly Classes
ATTACH;FMTTYPE=image/png:https://prayanacoaching.com/wp-content/uploads/2021/07/Untitled-design16.png
ORGANIZER;CN="Katie Short":MAILTO:katieshort@prayanacoaching.com
END:VEVENT
BEGIN:VEVENT
DTSTART;TZID=America/New_York:20220106T183000
DTEND;TZID=America/New_York:20220106T193000
DTSTAMP:20260425T112743
CREATED:20211230T153919Z
LAST-MODIFIED:20211230T153919Z
UID:1255-1641493800-1641497400@prayanacoaching.com
SUMMARY:Empowering Yoga
DESCRIPTION:This practice is focused on strength\, both mental and physical. Yes\, it’s a workout\, but you’ll discover more than just physical benefits! Find enhanced mental clarity\, elevated mood\, empowered spirit\, and renewed energy. Beginners welcome!
URL:https://prayanacoaching.com/event/empowering-yoga-65/
LOCATION:Be Spa\, 241 Three Springs Dr. Ste 5-7\, Weirton\, WV\, 26062\, United States
CATEGORIES:Weekly Classes
ATTACH;FMTTYPE=image/png:https://prayanacoaching.com/wp-content/uploads/2021/04/Untitled-design11.png
ORGANIZER;CN="Katie Short":MAILTO:katieshort@prayanacoaching.com
END:VEVENT
BEGIN:VEVENT
DTSTART;TZID=America/New_York:20220105T100000
DTEND;TZID=America/New_York:20220105T110000
DTSTAMP:20260425T112743
CREATED:20211230T153801Z
LAST-MODIFIED:20211230T153801Z
UID:1253-1641376800-1641380400@prayanacoaching.com
SUMMARY:Gentle Yoga
DESCRIPTION:Stretch\, breathe\, release\, repeat. An excellent class for beginners and advanced yogis alike\, Gentle Yoga is what it says! No pretzel-twisted poses\, no standing on one toe\, no marathon stretches. This is a peaceful\, guided practice to help focus your mind\, relieve tension\, and enhance flexibility.
URL:https://prayanacoaching.com/event/gentle-yoga-96/
LOCATION:Be Spa\, 241 Three Springs Dr. Ste 5-7\, Weirton\, WV\, 26062\, United States
CATEGORIES:Weekly Classes
ATTACH;FMTTYPE=image/png:https://prayanacoaching.com/wp-content/uploads/2021/05/Untitled-design34.png
ORGANIZER;CN="Katie Short":MAILTO:katieshort@prayanacoaching.com
END:VEVENT
BEGIN:VEVENT
DTSTART;TZID=America/New_York:20220105T090000
DTEND;TZID=America/New_York:20220105T100000
DTSTAMP:20260425T112743
CREATED:20211230T153703Z
LAST-MODIFIED:20211230T153703Z
UID:1251-1641373200-1641376800@prayanacoaching.com
SUMMARY:Empowering Yoga
DESCRIPTION:This practice is focused on strength\, both mental and physical. Yes\, it’s a workout\, but you’ll discover more than just physical benefits! Find enhanced mental clarity\, elevated mood\, empowered spirit\, and renewed energy. Beginners welcome!
URL:https://prayanacoaching.com/event/empowering-yoga-64/
LOCATION:Be Spa\, 241 Three Springs Dr. Ste 5-7\, Weirton\, WV\, 26062\, United States
CATEGORIES:Weekly Classes
ATTACH;FMTTYPE=image/png:https://prayanacoaching.com/wp-content/uploads/2021/04/Untitled-design11.png
ORGANIZER;CN="Katie Short":MAILTO:katieshort@prayanacoaching.com
END:VEVENT
BEGIN:VEVENT
DTSTART;TZID=America/New_York:20220104T190000
DTEND;TZID=America/New_York:20220104T200000
DTSTAMP:20260425T112743
CREATED:20211230T153558Z
LAST-MODIFIED:20211230T153558Z
UID:1249-1641322800-1641326400@prayanacoaching.com
SUMMARY:Empowering Yoga
DESCRIPTION:This practice is focused on strength\, both mental and physical. Yes\, it’s a workout\, but you’ll discover more than just physical benefits! Find enhanced mental clarity\, elevated mood\, empowered spirit\, and renewed energy. Beginners welcome!
URL:https://prayanacoaching.com/event/empowering-yoga-63/
LOCATION:Be Spa\, 241 Three Springs Dr. Ste 5-7\, Weirton\, WV\, 26062\, United States
CATEGORIES:Weekly Classes
ATTACH;FMTTYPE=image/png:https://prayanacoaching.com/wp-content/uploads/2021/04/Untitled-design11.png
ORGANIZER;CN="Katie Short":MAILTO:katieshort@prayanacoaching.com
END:VEVENT
BEGIN:VEVENT
DTSTART;TZID=America/New_York:20220104T180000
DTEND;TZID=America/New_York:20220104T190000
DTSTAMP:20260425T112743
CREATED:20211230T153421Z
LAST-MODIFIED:20211230T153421Z
UID:1247-1641319200-1641322800@prayanacoaching.com
SUMMARY:Gentle Yoga
DESCRIPTION:Stretch\, breathe\, release\, repeat. An excellent class for beginners and advanced yogis alike\, Gentle Yoga is what it says! No pretzel-twisted poses\, no standing on one toe\, no marathon stretches. This is a peaceful\, guided practice to help focus your mind\, relieve tension\, and enhance flexibility.
URL:https://prayanacoaching.com/event/gentle-yoga-95/
LOCATION:Be Spa\, 241 Three Springs Dr. Ste 5-7\, Weirton\, WV\, 26062\, United States
CATEGORIES:Weekly Classes
ATTACH;FMTTYPE=image/png:https://prayanacoaching.com/wp-content/uploads/2021/05/Untitled-design34.png
ORGANIZER;CN="Katie Short":MAILTO:katieshort@prayanacoaching.com
END:VEVENT
BEGIN:VEVENT
DTSTART;TZID=America/New_York:20220104T100000
DTEND;TZID=America/New_York:20220104T110000
DTSTAMP:20260425T112743
CREATED:20211230T153300Z
LAST-MODIFIED:20211230T153300Z
UID:1245-1641290400-1641294000@prayanacoaching.com
SUMMARY:Gentle Yoga
DESCRIPTION:Stretch\, breathe\, release\, repeat. An excellent class for beginners and advanced yogis alike\, Gentle Yoga is what it says! No pretzel-twisted poses\, no standing on one toe\, no marathon stretches. This is a peaceful\, guided practice to help focus your mind\, relieve tension\, and enhance flexibility.
URL:https://prayanacoaching.com/event/gentle-yoga-94/
LOCATION:Be Spa\, 241 Three Springs Dr. Ste 5-7\, Weirton\, WV\, 26062\, United States
CATEGORIES:Weekly Classes
ATTACH;FMTTYPE=image/png:https://prayanacoaching.com/wp-content/uploads/2021/05/Untitled-design34.png
ORGANIZER;CN="Katie Short":MAILTO:katieshort@prayanacoaching.com
END:VEVENT
BEGIN:VEVENT
DTSTART;TZID=America/New_York:20220104T080000
DTEND;TZID=America/New_York:20220104T090000
DTSTAMP:20260425T112743
CREATED:20211230T153150Z
LAST-MODIFIED:20211230T153150Z
UID:1243-1641283200-1641286800@prayanacoaching.com
SUMMARY:Rise & Shine Yoga
DESCRIPTION:A gentle but invigorating practice\, this class is designed to help you get moving\, be motivated\, and face your day with positivity! Accessible for all levels\, this class will help you jump-start your morning\, or help you to refocus when mornings are hectic.
URL:https://prayanacoaching.com/event/rise-shine-yoga-33/
LOCATION:Be Spa\, 241 Three Springs Dr. Ste 5-7\, Weirton\, WV\, 26062\, United States
CATEGORIES:Weekly Classes
ATTACH;FMTTYPE=image/png:https://prayanacoaching.com/wp-content/uploads/2021/07/Untitled-design16.png
ORGANIZER;CN="Katie Short":MAILTO:katieshort@prayanacoaching.com
END:VEVENT
BEGIN:VEVENT
DTSTART;TZID=America/New_York:20220102T170000
DTEND;TZID=America/New_York:20220102T180000
DTSTAMP:20260425T112743
CREATED:20211230T153010Z
LAST-MODIFIED:20211230T155200Z
UID:1240-1641142800-1641146400@prayanacoaching.com
SUMMARY:Hot Power Yoga
DESCRIPTION:This class is a true “slow burn”. Move through powerful yoga sequences with purpose\, focus your mind\, and leave the stresses of the week on your mat. Heat and movement together help to aid your body’s natural detox\, soothe stiff joints\, ease tight muscles\, and burn extra pounds. You can expect lots of movement\, a few challenges\, and options to adapt poses to your needs. You’ll then be pampered with chilled towels during savasana\, with added aromatherapy for those who choose (scent-free towels are also available). Please bring water\, and a towel if you feel it might be helpful.
URL:https://prayanacoaching.com/event/hot-power-yoga/
LOCATION:Be Spa\, 241 Three Springs Dr. Ste 5-7\, Weirton\, WV\, 26062\, United States
CATEGORIES:Weekly Classes
ATTACH;FMTTYPE=image/png:https://prayanacoaching.com/wp-content/uploads/2021/12/Copy-of-Copy-of-Unnamed-Design.png
ORGANIZER;CN="Katie Short":MAILTO:katieshort@prayanacoaching.com
END:VEVENT
BEGIN:VEVENT
DTSTART;TZID=America/New_York:20211231T100000
DTEND;TZID=America/New_York:20211231T110000
DTSTAMP:20260425T112743
CREATED:20211204T172729Z
LAST-MODIFIED:20211204T172729Z
UID:1223-1640944800-1640948400@prayanacoaching.com
SUMMARY:Gentle Yoga
DESCRIPTION:Stretch\, breathe\, release\, repeat. An excellent class for beginners and advanced yogis alike\, Gentle Yoga is what it says! No pretzel-twisted poses\, no standing on one toe\, no marathon stretches. This is a peaceful\, guided practice to help focus your mind\, relieve tension\, and enhance flexibility.
URL:https://prayanacoaching.com/event/gentle-yoga-92/
LOCATION:Be Spa\, 241 Three Springs Dr. Ste 5-7\, Weirton\, WV\, 26062\, United States
CATEGORIES:Weekly Classes
ATTACH;FMTTYPE=image/png:https://prayanacoaching.com/wp-content/uploads/2021/04/Untitled-design14.png
ORGANIZER;CN="Katie Short":MAILTO:katieshort@prayanacoaching.com
END:VEVENT
BEGIN:VEVENT
DTSTART;TZID=America/New_York:20211231T090000
DTEND;TZID=America/New_York:20211231T100000
DTSTAMP:20260425T112743
CREATED:20211204T172633Z
LAST-MODIFIED:20211204T172633Z
UID:1221-1640941200-1640944800@prayanacoaching.com
SUMMARY:Empowering Yoga
DESCRIPTION:This practice is focused on strength\, both mental and physical. Yes\, it’s a workout\, but you’ll discover more than just physical benefits! Find enhanced mental clarity\, elevated mood\, empowered spirit\, and renewed energy. Beginners welcome!
URL:https://prayanacoaching.com/event/empowering-yoga-62/
LOCATION:Be Spa\, 241 Three Springs Dr. Ste 5-7\, Weirton\, WV\, 26062\, United States
CATEGORIES:Weekly Classes
ATTACH;FMTTYPE=image/png:https://prayanacoaching.com/wp-content/uploads/2021/04/Untitled-design11.png
ORGANIZER;CN="Katie Short":MAILTO:katieshort@prayanacoaching.com
END:VEVENT
BEGIN:VEVENT
DTSTART;TZID=America/New_York:20211231T080000
DTEND;TZID=America/New_York:20211231T090000
DTSTAMP:20260425T112743
CREATED:20211204T172536Z
LAST-MODIFIED:20211204T172536Z
UID:1219-1640937600-1640941200@prayanacoaching.com
SUMMARY:Rise & Shine Yoga
DESCRIPTION:A gentle but invigorating practice\, this class is designed to help you get moving\, be motivated\, and face your day with positivity! Accessible for all levels\, this class will help you jump-start your morning\, or help you to refocus when mornings are hectic.
URL:https://prayanacoaching.com/event/rise-shine-yoga-32/
LOCATION:Be Spa\, 241 Three Springs Dr. Ste 5-7\, Weirton\, WV\, 26062\, United States
CATEGORIES:Weekly Classes
ATTACH;FMTTYPE=image/png:https://prayanacoaching.com/wp-content/uploads/2021/07/Untitled-design16.png
ORGANIZER;CN="Katie Short":MAILTO:katieshort@prayanacoaching.com
END:VEVENT
BEGIN:VEVENT
DTSTART;TZID=America/New_York:20211230T183000
DTEND;TZID=America/New_York:20211230T193000
DTSTAMP:20260425T112743
CREATED:20211204T172433Z
LAST-MODIFIED:20211204T172433Z
UID:1217-1640889000-1640892600@prayanacoaching.com
SUMMARY:Empowering Yoga
DESCRIPTION:This practice is focused on strength\, both mental and physical. Yes\, it’s a workout\, but you’ll discover more than just physical benefits! Find enhanced mental clarity\, elevated mood\, empowered spirit\, and renewed energy. Beginners welcome!
URL:https://prayanacoaching.com/event/empowering-yoga-61/
LOCATION:Be Spa\, 241 Three Springs Dr. Ste 5-7\, Weirton\, WV\, 26062\, United States
CATEGORIES:Weekly Classes
ATTACH;FMTTYPE=image/png:https://prayanacoaching.com/wp-content/uploads/2021/04/Untitled-design11.png
ORGANIZER;CN="Katie Short":MAILTO:katieshort@prayanacoaching.com
END:VEVENT
BEGIN:VEVENT
DTSTART;TZID=America/New_York:20211229T100000
DTEND;TZID=America/New_York:20211229T110000
DTSTAMP:20260425T112743
CREATED:20211204T172320Z
LAST-MODIFIED:20211204T172320Z
UID:1215-1640772000-1640775600@prayanacoaching.com
SUMMARY:Gentle Yoga
DESCRIPTION:Stretch\, breathe\, release\, repeat. An excellent class for beginners and advanced yogis alike\, Gentle Yoga is what it says! No pretzel-twisted poses\, no standing on one toe\, no marathon stretches. This is a peaceful\, guided practice to help focus your mind\, relieve tension\, and enhance flexibility.
URL:https://prayanacoaching.com/event/gentle-yoga-91/
LOCATION:Be Spa\, 241 Three Springs Dr. Ste 5-7\, Weirton\, WV\, 26062\, United States
CATEGORIES:Weekly Classes
ATTACH;FMTTYPE=image/png:https://prayanacoaching.com/wp-content/uploads/2021/04/Untitled-design14.png
ORGANIZER;CN="Katie Short":MAILTO:katieshort@prayanacoaching.com
END:VEVENT
BEGIN:VEVENT
DTSTART;TZID=America/New_York:20211229T090000
DTEND;TZID=America/New_York:20211229T100000
DTSTAMP:20260425T112743
CREATED:20211204T172215Z
LAST-MODIFIED:20211204T172215Z
UID:1213-1640768400-1640772000@prayanacoaching.com
SUMMARY:Empowering Yoga
DESCRIPTION:This practice is focused on strength\, both mental and physical. Yes\, it’s a workout\, but you’ll discover more than just physical benefits! Find enhanced mental clarity\, elevated mood\, empowered spirit\, and renewed energy. Beginners welcome!
URL:https://prayanacoaching.com/event/empowering-yoga-60/
LOCATION:Be Spa\, 241 Three Springs Dr. Ste 5-7\, Weirton\, WV\, 26062\, United States
CATEGORIES:Weekly Classes
ATTACH;FMTTYPE=image/png:https://prayanacoaching.com/wp-content/uploads/2021/04/Untitled-design11.png
ORGANIZER;CN="Katie Short":MAILTO:katieshort@prayanacoaching.com
END:VEVENT
BEGIN:VEVENT
DTSTART;TZID=America/New_York:20211228T180000
DTEND;TZID=America/New_York:20211228T190000
DTSTAMP:20260425T112743
CREATED:20211204T172109Z
LAST-MODIFIED:20211204T172109Z
UID:1211-1640714400-1640718000@prayanacoaching.com
SUMMARY:Empowering Yoga
DESCRIPTION:This practice is focused on strength\, both mental and physical. Yes\, it’s a workout\, but you’ll discover more than just physical benefits! Find enhanced mental clarity\, elevated mood\, empowered spirit\, and renewed energy. Beginners welcome!
URL:https://prayanacoaching.com/event/empowering-yoga-59/
LOCATION:Be Spa\, 241 Three Springs Dr. Ste 5-7\, Weirton\, WV\, 26062\, United States
CATEGORIES:Weekly Classes
ATTACH;FMTTYPE=image/png:https://prayanacoaching.com/wp-content/uploads/2021/04/Untitled-design11.png
ORGANIZER;CN="Katie Short":MAILTO:katieshort@prayanacoaching.com
END:VEVENT
BEGIN:VEVENT
DTSTART;TZID=America/New_York:20211228T180000
DTEND;TZID=America/New_York:20211228T190000
DTSTAMP:20260425T112743
CREATED:20211204T171958Z
LAST-MODIFIED:20211204T171958Z
UID:1209-1640714400-1640718000@prayanacoaching.com
SUMMARY:Gentle Yoga
DESCRIPTION:Stretch\, breathe\, release\, repeat. An excellent class for beginners and advanced yogis alike\, Gentle Yoga is what it says! No pretzel-twisted poses\, no standing on one toe\, no marathon stretches. This is a peaceful\, guided practice to help focus your mind\, relieve tension\, and enhance flexibility.
URL:https://prayanacoaching.com/event/gentle-yoga-90/
LOCATION:Be Spa\, 241 Three Springs Dr. Ste 5-7\, Weirton\, WV\, 26062\, United States
CATEGORIES:Weekly Classes
ATTACH;FMTTYPE=image/png:https://prayanacoaching.com/wp-content/uploads/2021/04/Untitled-design14.png
ORGANIZER;CN="Katie Short":MAILTO:katieshort@prayanacoaching.com
END:VEVENT
BEGIN:VEVENT
DTSTART;TZID=America/New_York:20211228T100000
DTEND;TZID=America/New_York:20211228T110000
DTSTAMP:20260425T112743
CREATED:20211204T171853Z
LAST-MODIFIED:20211204T171853Z
UID:1207-1640685600-1640689200@prayanacoaching.com
SUMMARY:Gentle Yoga
DESCRIPTION:Stretch\, breathe\, release\, repeat. An excellent class for beginners and advanced yogis alike\, Gentle Yoga is what it says! No pretzel-twisted poses\, no standing on one toe\, no marathon stretches. This is a peaceful\, guided practice to help focus your mind\, relieve tension\, and enhance flexibility.
URL:https://prayanacoaching.com/event/gentle-yoga-89/
LOCATION:Be Spa\, 241 Three Springs Dr. Ste 5-7\, Weirton\, WV\, 26062\, United States
CATEGORIES:Weekly Classes
ATTACH;FMTTYPE=image/png:https://prayanacoaching.com/wp-content/uploads/2021/04/Untitled-design14.png
ORGANIZER;CN="Katie Short":MAILTO:katieshort@prayanacoaching.com
END:VEVENT
BEGIN:VEVENT
DTSTART;TZID=America/New_York:20211228T080000
DTEND;TZID=America/New_York:20211228T090000
DTSTAMP:20260425T112743
CREATED:20211204T171641Z
LAST-MODIFIED:20211204T171641Z
UID:1205-1640678400-1640682000@prayanacoaching.com
SUMMARY:Rise & Shine Yoga
DESCRIPTION:A gentle but invigorating practice\, this class is designed to help you get moving\, be motivated\, and face your day with positivity! Accessible for all levels\, this class will help you jump-start your morning\, or help you to refocus when mornings are hectic.
URL:https://prayanacoaching.com/event/rise-shine-yoga-31/
LOCATION:Be Spa\, 241 Three Springs Dr. Ste 5-7\, Weirton\, WV\, 26062\, United States
CATEGORIES:Weekly Classes
ATTACH;FMTTYPE=image/png:https://prayanacoaching.com/wp-content/uploads/2021/07/Untitled-design16.png
ORGANIZER;CN="Katie Short":MAILTO:katieshort@prayanacoaching.com
END:VEVENT
BEGIN:VEVENT
DTSTART;TZID=America/New_York:20211227T180000
DTEND;TZID=America/New_York:20211227T190000
DTSTAMP:20260425T112743
CREATED:20211204T171339Z
LAST-MODIFIED:20211204T171339Z
UID:1203-1640628000-1640631600@prayanacoaching.com
SUMMARY:Empowering Yoga
DESCRIPTION:This practice is focused on strength\, both mental and physical. Yes\, it’s a workout\, but you’ll discover more than just physical benefits! Find enhanced mental clarity\, elevated mood\, empowered spirit\, and renewed energy. Beginners welcome!
URL:https://prayanacoaching.com/event/empowering-yoga-58/
LOCATION:Be Spa\, 241 Three Springs Dr. Ste 5-7\, Weirton\, WV\, 26062\, United States
CATEGORIES:Weekly Classes
ATTACH;FMTTYPE=image/png:https://prayanacoaching.com/wp-content/uploads/2021/04/Untitled-design11.png
ORGANIZER;CN="Katie Short":MAILTO:katieshort@prayanacoaching.com
END:VEVENT
BEGIN:VEVENT
DTSTART;TZID=America/New_York:20211226T170000
DTEND;TZID=America/New_York:20211226T180000
DTSTAMP:20260425T112743
CREATED:20211204T171123Z
LAST-MODIFIED:20211204T171123Z
UID:1201-1640538000-1640541600@prayanacoaching.com
SUMMARY:Empowering Yoga
DESCRIPTION:This practice is focused on strength\, both mental and physical. Yes\, it’s a workout\, but you’ll discover more than just physical benefits! Find enhanced mental clarity\, elevated mood\, empowered spirit\, and renewed energy. Beginners welcome!
URL:https://prayanacoaching.com/event/empowering-yoga-57/
LOCATION:Be Spa\, 241 Three Springs Dr. Ste 5-7\, Weirton\, WV\, 26062\, United States
CATEGORIES:Weekly Classes
ATTACH;FMTTYPE=image/png:https://prayanacoaching.com/wp-content/uploads/2021/04/Untitled-design11.png
ORGANIZER;CN="Katie Short":MAILTO:katieshort@prayanacoaching.com
END:VEVENT
BEGIN:VEVENT
DTSTART;TZID=America/New_York:20211223T183000
DTEND;TZID=America/New_York:20211223T193000
DTSTAMP:20260425T112743
CREATED:20211204T170446Z
LAST-MODIFIED:20211204T170446Z
UID:1199-1640284200-1640287800@prayanacoaching.com
SUMMARY:Empowering Yoga
DESCRIPTION:This practice is focused on strength\, both mental and physical. Yes\, it’s a workout\, but you’ll discover more than just physical benefits! Find enhanced mental clarity\, elevated mood\, empowered spirit\, and renewed energy. Beginners welcome!
URL:https://prayanacoaching.com/event/empowering-yoga-56/
LOCATION:Be Spa\, 241 Three Springs Dr. Ste 5-7\, Weirton\, WV\, 26062\, United States
CATEGORIES:Weekly Classes
ATTACH;FMTTYPE=image/png:https://prayanacoaching.com/wp-content/uploads/2021/04/Untitled-design11.png
ORGANIZER;CN="Katie Short":MAILTO:katieshort@prayanacoaching.com
END:VEVENT
END:VCALENDAR