BEGIN:VCALENDAR
VERSION:2.0
PRODID:-//Prayana - ECPv6.15.20//NONSGML v1.0//EN
CALSCALE:GREGORIAN
METHOD:PUBLISH
X-WR-CALNAME:Prayana
X-ORIGINAL-URL:https://prayanacoaching.com
X-WR-CALDESC:Events for Prayana
REFRESH-INTERVAL;VALUE=DURATION:PT1H
X-Robots-Tag:noindex
X-PUBLISHED-TTL:PT1H
BEGIN:VTIMEZONE
TZID:America/New_York
BEGIN:DAYLIGHT
TZOFFSETFROM:-0500
TZOFFSETTO:-0400
TZNAME:EDT
DTSTART:20210314T070000
END:DAYLIGHT
BEGIN:STANDARD
TZOFFSETFROM:-0400
TZOFFSETTO:-0500
TZNAME:EST
DTSTART:20211107T060000
END:STANDARD
BEGIN:DAYLIGHT
TZOFFSETFROM:-0500
TZOFFSETTO:-0400
TZNAME:EDT
DTSTART:20220313T070000
END:DAYLIGHT
BEGIN:STANDARD
TZOFFSETFROM:-0400
TZOFFSETTO:-0500
TZNAME:EST
DTSTART:20221106T060000
END:STANDARD
BEGIN:DAYLIGHT
TZOFFSETFROM:-0500
TZOFFSETTO:-0400
TZNAME:EDT
DTSTART:20230312T070000
END:DAYLIGHT
BEGIN:STANDARD
TZOFFSETFROM:-0400
TZOFFSETTO:-0500
TZNAME:EST
DTSTART:20231105T060000
END:STANDARD
END:VTIMEZONE
BEGIN:VEVENT
DTSTART;TZID=America/New_York:20220217T183000
DTEND;TZID=America/New_York:20220217T193000
DTSTAMP:20260424T212426
CREATED:20220130T153233Z
LAST-MODIFIED:20220130T153233Z
UID:1443-1645122600-1645126200@prayanacoaching.com
SUMMARY:Empowering Vinyasa
DESCRIPTION:This practice is focused on strength\, both mental and physical. Yes\, it’s a workout\, but you’ll discover more than just physical benefits! Find enhanced mental clarity\, elevated mood\, empowered spirit\, and renewed energy.
URL:https://prayanacoaching.com/event/empowering-vinyasa-14/
LOCATION:Be Spa\, 241 Three Springs Dr. Ste 5-7\, Weirton\, WV\, 26062\, United States
CATEGORIES:Weekly Classes
ATTACH;FMTTYPE=image/png:https://prayanacoaching.com/wp-content/uploads/2021/04/Untitled-design11.png
END:VEVENT
BEGIN:VEVENT
DTSTART;TZID=America/New_York:20220217T090000
DTEND;TZID=America/New_York:20220217T100000
DTSTAMP:20260424T212426
CREATED:20220130T152334Z
LAST-MODIFIED:20220130T152334Z
UID:1431-1645088400-1645092000@prayanacoaching.com
SUMMARY:Gentle Yoga
DESCRIPTION:Stretch\, breathe\, release\, repeat. An excellent class for beginners and advanced yogis alike\, Gentle Yoga is what it says! No pretzel-twisted poses\, no standing on one toe\, no marathon stretches. This is a peaceful\, guided practice to help focus your mind\, relieve tension\, and enhance flexibility.
URL:https://prayanacoaching.com/event/gentle-yoga-127/
LOCATION:Be Spa\, 241 Three Springs Dr. Ste 5-7\, Weirton\, WV\, 26062\, United States
CATEGORIES:Weekly Classes
ATTACH;FMTTYPE=image/png:https://prayanacoaching.com/wp-content/uploads/2021/05/Untitled-design34.png
END:VEVENT
BEGIN:VEVENT
DTSTART;TZID=America/New_York:20220217T080000
DTEND;TZID=America/New_York:20220217T090000
DTSTAMP:20260424T212426
CREATED:20220130T151006Z
LAST-MODIFIED:20220130T151006Z
UID:1419-1645084800-1645088400@prayanacoaching.com
SUMMARY:Empowering Vinyasa
DESCRIPTION:This practice is focused on strength\, both mental and physical. Yes\, it’s a workout\, but you’ll discover more than just physical benefits! Find enhanced mental clarity\, elevated mood\, empowered spirit\, and renewed energy.
URL:https://prayanacoaching.com/event/empowering-vinyasa-11/
LOCATION:Be Spa\, 241 Three Springs Dr. Ste 5-7\, Weirton\, WV\, 26062\, United States
CATEGORIES:Weekly Classes
ATTACH;FMTTYPE=image/png:https://prayanacoaching.com/wp-content/uploads/2021/04/Untitled-design11.png
END:VEVENT
BEGIN:VEVENT
DTSTART;TZID=America/New_York:20220216T100000
DTEND;TZID=America/New_York:20220216T110000
DTSTAMP:20260424T212426
CREATED:20220130T151655Z
LAST-MODIFIED:20220130T151655Z
UID:1425-1645005600-1645009200@prayanacoaching.com
SUMMARY:Gentle Yoga
DESCRIPTION:Stretch\, breathe\, release\, repeat. An excellent class for beginners and advanced yogis alike\, Gentle Yoga is what it says! No pretzel-twisted poses\, no standing on one toe\, no marathon stretches. This is a peaceful\, guided practice to help focus your mind\, relieve tension\, and enhance flexibility.
URL:https://prayanacoaching.com/event/gentle-yoga-124/
LOCATION:Be Spa\, 241 Three Springs Dr. Ste 5-7\, Weirton\, WV\, 26062\, United States
CATEGORIES:Weekly Classes
ATTACH;FMTTYPE=image/png:https://prayanacoaching.com/wp-content/uploads/2021/05/Untitled-design34.png
END:VEVENT
BEGIN:VEVENT
DTSTART;TZID=America/New_York:20220216T090000
DTEND;TZID=America/New_York:20220216T100000
DTSTAMP:20260424T212426
CREATED:20220130T150549Z
LAST-MODIFIED:20220130T150549Z
UID:1413-1645002000-1645005600@prayanacoaching.com
SUMMARY:Empowering Vinyasa
DESCRIPTION:This practice is focused on strength\, both mental and physical. Yes\, it’s a workout\, but you’ll discover more than just physical benefits! Find enhanced mental clarity\, elevated mood\, empowered spirit\, and renewed energy.
URL:https://prayanacoaching.com/event/empowering-vinyasa-8/
LOCATION:Be Spa\, 241 Three Springs Dr. Ste 5-7\, Weirton\, WV\, 26062\, United States
CATEGORIES:Weekly Classes
ATTACH;FMTTYPE=image/png:https://prayanacoaching.com/wp-content/uploads/2021/04/Untitled-design11.png
END:VEVENT
BEGIN:VEVENT
DTSTART;TZID=America/New_York:20220215T190000
DTEND;TZID=America/New_York:20220215T200000
DTSTAMP:20260424T212426
CREATED:20220130T150239Z
LAST-MODIFIED:20220130T150239Z
UID:1407-1644951600-1644955200@prayanacoaching.com
SUMMARY:Empowering Vinyasa
DESCRIPTION:This practice is focused on strength\, both mental and physical. Yes\, it’s a workout\, but you’ll discover more than just physical benefits! Find enhanced mental clarity\, elevated mood\, empowered spirit\, and renewed energy.
URL:https://prayanacoaching.com/event/empowering-vinyasa-5/
LOCATION:Be Spa\, 241 Three Springs Dr. Ste 5-7\, Weirton\, WV\, 26062\, United States
CATEGORIES:Weekly Classes
ATTACH;FMTTYPE=image/png:https://prayanacoaching.com/wp-content/uploads/2021/04/Untitled-design11.png
END:VEVENT
BEGIN:VEVENT
DTSTART;TZID=America/New_York:20220215T180000
DTEND;TZID=America/New_York:20220215T190000
DTSTAMP:20260424T212426
CREATED:20220130T145548Z
LAST-MODIFIED:20220130T145548Z
UID:1400-1644948000-1644951600@prayanacoaching.com
SUMMARY:Gentle Yoga
DESCRIPTION:Stretch\, breathe\, release\, repeat. An excellent class for beginners and advanced yogis alike\, Gentle Yoga is what it says! No pretzel-twisted poses\, no standing on one toe\, no marathon stretches. This is a peaceful\, guided practice to help focus your mind\, relieve tension\, and enhance flexibility.
URL:https://prayanacoaching.com/event/gentle-yoga-121/
LOCATION:Be Spa\, 241 Three Springs Dr. Ste 5-7\, Weirton\, WV\, 26062\, United States
CATEGORIES:Weekly Classes
ATTACH;FMTTYPE=image/png:https://prayanacoaching.com/wp-content/uploads/2021/05/Untitled-design34.png
END:VEVENT
BEGIN:VEVENT
DTSTART;TZID=America/New_York:20220215T100000
DTEND;TZID=America/New_York:20220215T110000
DTSTAMP:20260424T212426
CREATED:20220130T145248Z
LAST-MODIFIED:20220130T145248Z
UID:1394-1644919200-1644922800@prayanacoaching.com
SUMMARY:Gentle Yoga
DESCRIPTION:Stretch\, breathe\, release\, repeat. An excellent class for beginners and advanced yogis alike\, Gentle Yoga is what it says! No pretzel-twisted poses\, no standing on one toe\, no marathon stretches. This is a peaceful\, guided practice to help focus your mind\, relieve tension\, and enhance flexibility.
URL:https://prayanacoaching.com/event/gentle-yoga-118/
LOCATION:Be Spa\, 241 Three Springs Dr. Ste 5-7\, Weirton\, WV\, 26062\, United States
CATEGORIES:Weekly Classes
ATTACH;FMTTYPE=image/png:https://prayanacoaching.com/wp-content/uploads/2021/05/Untitled-design34.png
END:VEVENT
BEGIN:VEVENT
DTSTART;TZID=America/New_York:20220215T080000
DTEND;TZID=America/New_York:20220215T090000
DTSTAMP:20260424T212426
CREATED:20220130T144944Z
LAST-MODIFIED:20220130T144944Z
UID:1388-1644912000-1644915600@prayanacoaching.com
SUMMARY:Rise & Shine Yoga
DESCRIPTION:A gentle but invigorating practice\, this class is designed to help you get moving\, be motivated\, and face your day with positivity! Accessible for all levels\, this class will help you jump-start your morning\, or help you to refocus when mornings are hectic.
URL:https://prayanacoaching.com/event/rise-shine-yoga-49/
LOCATION:Be Spa\, 241 Three Springs Dr. Ste 5-7\, Weirton\, WV\, 26062\, United States
CATEGORIES:Weekly Classes
ATTACH;FMTTYPE=image/png:https://prayanacoaching.com/wp-content/uploads/2021/07/Untitled-design16.png
END:VEVENT
BEGIN:VEVENT
DTSTART;TZID=America/New_York:20220214T090000
DTEND;TZID=America/New_York:20220214T100000
DTSTAMP:20260424T212426
CREATED:20220130T144539Z
LAST-MODIFIED:20220130T144539Z
UID:1380-1644829200-1644832800@prayanacoaching.com
SUMMARY:Rise & Shine Yoga
DESCRIPTION:A gentle but invigorating practice\, this class is designed to help you get moving\, be motivated\, and face your day with positivity! Accessible for all levels\, this class will help you jump-start your morning\, or help you to refocus when mornings are hectic.
URL:https://prayanacoaching.com/event/rise-shine-yoga-45/
LOCATION:Be Spa\, 241 Three Springs Dr. Ste 5-7\, Weirton\, WV\, 26062\, United States
CATEGORIES:Weekly Classes
ATTACH;FMTTYPE=image/png:https://prayanacoaching.com/wp-content/uploads/2021/07/Untitled-design16.png
END:VEVENT
BEGIN:VEVENT
DTSTART;TZID=America/New_York:20220213T170000
DTEND;TZID=America/New_York:20220213T180000
DTSTAMP:20260424T212426
CREATED:20220130T155452Z
LAST-MODIFIED:20220130T155452Z
UID:1467-1644771600-1644775200@prayanacoaching.com
SUMMARY:Hot Power Yoga
DESCRIPTION:This class is a true “slow burn”. Move through powerful yoga sequences with purpose\, focus your mind\, and leave the stresses of the week on your mat. Heat and movement together help to aid your body’s natural detox\, soothe stiff joints\, ease tight muscles\, and burn extra pounds. You can expect lots of movement\, a few challenges\, and options to adapt poses to your needs. You’ll then be pampered with chilled towels during savasana\, with added aromatherapy for those who choose (scent-free towels are also available). Please bring water\, and a towel if you feel it might be helpful.
URL:https://prayanacoaching.com/event/hot-power-yoga-7/
LOCATION:Be Spa\, 241 Three Springs Dr. Ste 5-7\, Weirton\, WV\, 26062\, United States
CATEGORIES:Weekly Classes
ATTACH;FMTTYPE=image/png:https://prayanacoaching.com/wp-content/uploads/2021/12/Copy-of-Copy-of-Unnamed-Design.png
END:VEVENT
BEGIN:VEVENT
DTSTART;TZID=America/New_York:20220213T100000
DTEND;TZID=America/New_York:20220213T110000
DTSTAMP:20260424T212426
CREATED:20220130T144011Z
LAST-MODIFIED:20220130T144011Z
UID:1374-1644746400-1644750000@prayanacoaching.com
SUMMARY:Mindful Movement
DESCRIPTION:Bring mind\, body\, spirit\, and breath together in this gentle and uplifting group class. Mindful Movement intuitively combines pranayama (breath) and asana (posture) to leave you feeling refreshed and centered.
URL:https://prayanacoaching.com/event/mindful-movement/
LOCATION:Be Spa\, 241 Three Springs Dr. Ste 5-7\, Weirton\, WV\, 26062\, United States
CATEGORIES:Special Events,Weekly Classes
ATTACH;FMTTYPE=image/png:https://prayanacoaching.com/wp-content/uploads/2021/04/Untitled-design14.png
END:VEVENT
BEGIN:VEVENT
DTSTART;TZID=America/New_York:20220211T090000
DTEND;TZID=America/New_York:20220211T100000
DTSTAMP:20260424T212426
CREATED:20220130T154333Z
LAST-MODIFIED:20220130T154333Z
UID:1453-1644570000-1644573600@prayanacoaching.com
SUMMARY:Empowering Yoga
DESCRIPTION:This practice is focused on strength\, both mental and physical. Yes\, it’s a workout\, but you’ll discover more than just physical benefits! Find enhanced mental clarity\, elevated mood\, empowered spirit\, and renewed energy.
URL:https://prayanacoaching.com/event/empowering-yoga-81/
LOCATION:Be Spa\, 241 Three Springs Dr. Ste 5-7\, Weirton\, WV\, 26062\, United States
CATEGORIES:Weekly Classes
END:VEVENT
BEGIN:VEVENT
DTSTART;TZID=America/New_York:20220211T080000
DTEND;TZID=America/New_York:20220211T090000
DTSTAMP:20260424T212426
CREATED:20220130T153605Z
LAST-MODIFIED:20220130T153605Z
UID:1447-1644566400-1644570000@prayanacoaching.com
SUMMARY:Rise & Shine Yoga
DESCRIPTION:A gentle but invigorating practice\, this class is designed to help you get moving\, be motivated\, and face your day with positivity! Accessible for all levels\, this class will help you jump-start your morning\, or help you to refocus when mornings are hectic.
URL:https://prayanacoaching.com/event/rise-shine-yoga-51/
LOCATION:Be Spa\, 241 Three Springs Dr. Ste 5-7\, Weirton\, WV\, 26062\, United States
CATEGORIES:Weekly Classes
ATTACH;FMTTYPE=image/png:https://prayanacoaching.com/wp-content/uploads/2021/07/Untitled-design16.png
END:VEVENT
BEGIN:VEVENT
DTSTART;TZID=America/New_York:20220210T193000
DTEND;TZID=America/New_York:20220210T203000
DTSTAMP:20260424T212426
CREATED:20220130T152713Z
LAST-MODIFIED:20220130T152713Z
UID:1435-1644521400-1644525000@prayanacoaching.com
SUMMARY:Gentle Yoga
DESCRIPTION:Stretch\, breathe\, release\, repeat. An excellent class for beginners and advanced yogis alike\, Gentle Yoga is what it says! No pretzel-twisted poses\, no standing on one toe\, no marathon stretches. This is a peaceful\, guided practice to help focus your mind\, relieve tension\, and enhance flexibility.
URL:https://prayanacoaching.com/event/gentle-yoga-129/
LOCATION:Be Spa\, 241 Three Springs Dr. Ste 5-7\, Weirton\, WV\, 26062\, United States
CATEGORIES:Weekly Classes
ATTACH;FMTTYPE=image/png:https://prayanacoaching.com/wp-content/uploads/2021/05/Untitled-design34.png
END:VEVENT
BEGIN:VEVENT
DTSTART;TZID=America/New_York:20220210T183000
DTEND;TZID=America/New_York:20220210T193000
DTSTAMP:20260424T212426
CREATED:20220130T153119Z
LAST-MODIFIED:20220130T153119Z
UID:1441-1644517800-1644521400@prayanacoaching.com
SUMMARY:Empowering Vinyasa
DESCRIPTION:This practice is focused on strength\, both mental and physical. Yes\, it’s a workout\, but you’ll discover more than just physical benefits! Find enhanced mental clarity\, elevated mood\, empowered spirit\, and renewed energy.
URL:https://prayanacoaching.com/event/empowering-vinyasa-13/
LOCATION:Be Spa\, 241 Three Springs Dr. Ste 5-7\, Weirton\, WV\, 26062\, United States
CATEGORIES:Weekly Classes
ATTACH;FMTTYPE=image/png:https://prayanacoaching.com/wp-content/uploads/2021/04/Untitled-design11.png
END:VEVENT
BEGIN:VEVENT
DTSTART;TZID=America/New_York:20220210T090000
DTEND;TZID=America/New_York:20220210T100000
DTSTAMP:20260424T212426
CREATED:20220130T152148Z
LAST-MODIFIED:20220130T152148Z
UID:1429-1644483600-1644487200@prayanacoaching.com
SUMMARY:Gentle Yoga
DESCRIPTION:Stretch\, breathe\, release\, repeat. An excellent class for beginners and advanced yogis alike\, Gentle Yoga is what it says! No pretzel-twisted poses\, no standing on one toe\, no marathon stretches. This is a peaceful\, guided practice to help focus your mind\, relieve tension\, and enhance flexibility.
URL:https://prayanacoaching.com/event/gentle-yoga-126/
LOCATION:Be Spa\, 241 Three Springs Dr. Ste 5-7\, Weirton\, WV\, 26062\, United States
CATEGORIES:Weekly Classes
END:VEVENT
BEGIN:VEVENT
DTSTART;TZID=America/New_York:20220210T080000
DTEND;TZID=America/New_York:20220210T090000
DTSTAMP:20260424T212426
CREATED:20220130T150901Z
LAST-MODIFIED:20220130T150901Z
UID:1417-1644480000-1644483600@prayanacoaching.com
SUMMARY:Empowering Vinyasa
DESCRIPTION:This practice is focused on strength\, both mental and physical. Yes\, it’s a workout\, but you’ll discover more than just physical benefits! Find enhanced mental clarity\, elevated mood\, empowered spirit\, and renewed energy.
URL:https://prayanacoaching.com/event/empowering-vinyasa-10/
LOCATION:Be Spa\, 241 Three Springs Dr. Ste 5-7\, Weirton\, WV\, 26062\, United States
CATEGORIES:Weekly Classes
ATTACH;FMTTYPE=image/png:https://prayanacoaching.com/wp-content/uploads/2021/04/Untitled-design11.png
ORGANIZER;CN="Katie Short":MAILTO:katieshort@prayanacoaching.com
END:VEVENT
BEGIN:VEVENT
DTSTART;TZID=America/New_York:20220209T100000
DTEND;TZID=America/New_York:20220209T110000
DTSTAMP:20260424T212426
CREATED:20220130T151558Z
LAST-MODIFIED:20220130T151558Z
UID:1423-1644400800-1644404400@prayanacoaching.com
SUMMARY:Gentle Yoga
DESCRIPTION:Stretch\, breathe\, release\, repeat. An excellent class for beginners and advanced yogis alike\, Gentle Yoga is what it says! No pretzel-twisted poses\, no standing on one toe\, no marathon stretches. This is a peaceful\, guided practice to help focus your mind\, relieve tension\, and enhance flexibility.
URL:https://prayanacoaching.com/event/gentle-yoga-123/
LOCATION:Be Spa\, 241 Three Springs Dr. Ste 5-7\, Weirton\, WV\, 26062\, United States
CATEGORIES:Weekly Classes
ATTACH;FMTTYPE=image/png:https://prayanacoaching.com/wp-content/uploads/2021/05/Untitled-design34.png
END:VEVENT
BEGIN:VEVENT
DTSTART;TZID=America/New_York:20220209T090000
DTEND;TZID=America/New_York:20220209T100000
DTSTAMP:20260424T212426
CREATED:20220130T150446Z
LAST-MODIFIED:20220130T150446Z
UID:1411-1644397200-1644400800@prayanacoaching.com
SUMMARY:Empowering Vinyasa
DESCRIPTION:This practice is focused on strength\, both mental and physical. Yes\, it’s a workout\, but you’ll discover more than just physical benefits! Find enhanced mental clarity\, elevated mood\, empowered spirit\, and renewed energy.
URL:https://prayanacoaching.com/event/empowering-vinyasa-7/
LOCATION:Be Spa\, 241 Three Springs Dr. Ste 5-7\, Weirton\, WV\, 26062\, United States
CATEGORIES:Weekly Classes
ATTACH;FMTTYPE=image/png:https://prayanacoaching.com/wp-content/uploads/2021/04/Untitled-design11.png
END:VEVENT
BEGIN:VEVENT
DTSTART;TZID=America/New_York:20220208T190000
DTEND;TZID=America/New_York:20220208T200000
DTSTAMP:20260424T212426
CREATED:20220130T150137Z
LAST-MODIFIED:20220130T150137Z
UID:1405-1644346800-1644350400@prayanacoaching.com
SUMMARY:Empowering Vinyasa
DESCRIPTION:This practice is focused on strength\, both mental and physical. Yes\, it’s a workout\, but you’ll discover more than just physical benefits! Find enhanced mental clarity\, elevated mood\, empowered spirit\, and renewed energy.
URL:https://prayanacoaching.com/event/empowering-vinyasa-4/
LOCATION:Be Spa\, 241 Three Springs Dr. Ste 5-7\, Weirton\, WV\, 26062\, United States
CATEGORIES:Weekly Classes
ATTACH;FMTTYPE=image/png:https://prayanacoaching.com/wp-content/uploads/2021/04/Untitled-design11.png
END:VEVENT
BEGIN:VEVENT
DTSTART;TZID=America/New_York:20220208T180000
DTEND;TZID=America/New_York:20220208T190000
DTSTAMP:20260424T212426
CREATED:20220130T145450Z
LAST-MODIFIED:20220130T145450Z
UID:1398-1644343200-1644346800@prayanacoaching.com
SUMMARY:Gentle Yoga
DESCRIPTION:Stretch\, breathe\, release\, repeat. An excellent class for beginners and advanced yogis alike\, Gentle Yoga is what it says! No pretzel-twisted poses\, no standing on one toe\, no marathon stretches. This is a peaceful\, guided practice to help focus your mind\, relieve tension\, and enhance flexibility.
URL:https://prayanacoaching.com/event/gentle-yoga-120/
LOCATION:Be Spa\, 241 Three Springs Dr. Ste 5-7\, Weirton\, WV\, 26062\, United States
CATEGORIES:Weekly Classes
ATTACH;FMTTYPE=image/png:https://prayanacoaching.com/wp-content/uploads/2021/05/Untitled-design34.png
END:VEVENT
BEGIN:VEVENT
DTSTART;TZID=America/New_York:20220208T100000
DTEND;TZID=America/New_York:20220208T110000
DTSTAMP:20260424T212426
CREATED:20220130T145155Z
LAST-MODIFIED:20220130T145155Z
UID:1392-1644314400-1644318000@prayanacoaching.com
SUMMARY:Gentle Yoga
DESCRIPTION:Stretch\, breathe\, release\, repeat. An excellent class for beginners and advanced yogis alike\, Gentle Yoga is what it says! No pretzel-twisted poses\, no standing on one toe\, no marathon stretches. This is a peaceful\, guided practice to help focus your mind\, relieve tension\, and enhance flexibility.
URL:https://prayanacoaching.com/event/gentle-yoga-117/
LOCATION:Be Spa\, 241 Three Springs Dr. Ste 5-7\, Weirton\, WV\, 26062\, United States
CATEGORIES:Weekly Classes
ATTACH;FMTTYPE=image/png:https://prayanacoaching.com/wp-content/uploads/2021/05/Untitled-design34.png
END:VEVENT
BEGIN:VEVENT
DTSTART;TZID=America/New_York:20220208T080000
DTEND;TZID=America/New_York:20220208T090000
DTSTAMP:20260424T212426
CREATED:20220130T144843Z
LAST-MODIFIED:20220130T144843Z
UID:1386-1644307200-1644310800@prayanacoaching.com
SUMMARY:Rise & Shine Yoga
DESCRIPTION:A gentle but invigorating practice\, this class is designed to help you get moving\, be motivated\, and face your day with positivity! Accessible for all levels\, this class will help you jump-start your morning\, or help you to refocus when mornings are hectic.
URL:https://prayanacoaching.com/event/rise-shine-yoga-48/
LOCATION:Be Spa\, 241 Three Springs Dr. Ste 5-7\, Weirton\, WV\, 26062\, United States
CATEGORIES:Weekly Classes
ATTACH;FMTTYPE=image/png:https://prayanacoaching.com/wp-content/uploads/2021/07/Untitled-design16.png
END:VEVENT
BEGIN:VEVENT
DTSTART;TZID=America/New_York:20220207T090000
DTEND;TZID=America/New_York:20220207T100000
DTSTAMP:20260424T212426
CREATED:20220130T144444Z
LAST-MODIFIED:20220130T144444Z
UID:1378-1644224400-1644228000@prayanacoaching.com
SUMMARY:Rise & Shine Yoga
DESCRIPTION:A gentle but invigorating practice\, this class is designed to help you get moving\, be motivated\, and face your day with positivity! Accessible for all levels\, this class will help you jump-start your morning\, or help you to refocus when mornings are hectic.
URL:https://prayanacoaching.com/event/rise-shine-yoga-44/
LOCATION:Be Spa\, 241 Three Springs Dr. Ste 5-7\, Weirton\, WV\, 26062\, United States
CATEGORIES:Weekly Classes
ATTACH;FMTTYPE=image/png:https://prayanacoaching.com/wp-content/uploads/2021/07/Untitled-design16.png
END:VEVENT
BEGIN:VEVENT
DTSTART;TZID=America/New_York:20220206T170000
DTEND;TZID=America/New_York:20220206T180000
DTSTAMP:20260424T212426
CREATED:20220130T155351Z
LAST-MODIFIED:20220130T155351Z
UID:1465-1644166800-1644170400@prayanacoaching.com
SUMMARY:Hot Power Yoga
DESCRIPTION:This class is a true “slow burn”. Move through powerful yoga sequences with purpose\, focus your mind\, and leave the stresses of the week on your mat. Heat and movement together help to aid your body’s natural detox\, soothe stiff joints\, ease tight muscles\, and burn extra pounds. You can expect lots of movement\, a few challenges\, and options to adapt poses to your needs. You’ll then be pampered with chilled towels during savasana\, with added aromatherapy for those who choose (scent-free towels are also available). Please bring water\, and a towel if you feel it might be helpful.
URL:https://prayanacoaching.com/event/hot-power-yoga-6/
LOCATION:Be Spa\, 241 Three Springs Dr. Ste 5-7\, Weirton\, WV\, 26062\, United States
CATEGORIES:Weekly Classes
END:VEVENT
BEGIN:VEVENT
DTSTART;TZID=America/New_York:20220204T100000
DTEND;TZID=America/New_York:20220204T110000
DTSTAMP:20260424T212426
CREATED:20220130T154811Z
LAST-MODIFIED:20220130T154811Z
UID:1459-1643968800-1643972400@prayanacoaching.com
SUMMARY:Gentle Yoga
DESCRIPTION:Stretch\, breathe\, release\, repeat. An excellent class for beginners and advanced yogis alike\, Gentle Yoga is what it says! No pretzel-twisted poses\, no standing on one toe\, no marathon stretches. This is a peaceful\, guided practice to help focus your mind\, relieve tension\, and enhance flexibility.
URL:https://prayanacoaching.com/event/gentle-yoga-132/
LOCATION:Be Spa\, 241 Three Springs Dr. Ste 5-7\, Weirton\, WV\, 26062\, United States
CATEGORIES:Weekly Classes
ATTACH;FMTTYPE=image/png:https://prayanacoaching.com/wp-content/uploads/2021/05/Untitled-design34.png
END:VEVENT
BEGIN:VEVENT
DTSTART;TZID=America/New_York:20220204T100000
DTEND;TZID=America/New_York:20220204T110000
DTSTAMP:20260424T212426
CREATED:20220130T140651Z
LAST-MODIFIED:20220130T140651Z
UID:1365-1643968800-1643972400@prayanacoaching.com
SUMMARY:Gentle Yoga
DESCRIPTION:Stretch\, breathe\, release\, repeat. An excellent class for beginners and advanced yogis alike\, Gentle Yoga is what it says! No pretzel-twisted poses\, no standing on one toe\, no marathon stretches. This is a peaceful\, guided practice to help focus your mind\, relieve tension\, and enhance flexibility.
URL:https://prayanacoaching.com/event/gentle-yoga-114/
LOCATION:Be Spa\, 241 Three Springs Dr. Ste 5-7\, Weirton\, WV\, 26062\, United States
CATEGORIES:Weekly Classes
ATTACH;FMTTYPE=image/png:https://prayanacoaching.com/wp-content/uploads/2021/05/Untitled-design34.png
END:VEVENT
BEGIN:VEVENT
DTSTART;TZID=America/New_York:20220204T090000
DTEND;TZID=America/New_York:20220204T100000
DTSTAMP:20260424T212426
CREATED:20220130T140409Z
LAST-MODIFIED:20220130T140409Z
UID:1363-1643965200-1643968800@prayanacoaching.com
SUMMARY:Empowering Yoga
DESCRIPTION:This practice is focused on strength\, both mental and physical. Yes\, it’s a workout\, but you’ll discover more than just physical benefits! Find enhanced mental clarity\, elevated mood\, empowered spirit\, and renewed energy. Beginners welcome!
URL:https://prayanacoaching.com/event/empowering-yoga-80/
LOCATION:Be Spa\, 241 Three Springs Dr. Ste 5-7\, Weirton\, WV\, 26062\, United States
CATEGORIES:Weekly Classes
ATTACH;FMTTYPE=image/png:https://prayanacoaching.com/wp-content/uploads/2021/04/Untitled-design11.png
END:VEVENT
BEGIN:VEVENT
DTSTART;TZID=America/New_York:20220204T080000
DTEND;TZID=America/New_York:20220204T090000
DTSTAMP:20260424T212426
CREATED:20220130T140250Z
LAST-MODIFIED:20220130T140250Z
UID:1361-1643961600-1643965200@prayanacoaching.com
SUMMARY:Rise & Shine Yoga
DESCRIPTION:A gentle but invigorating practice\, this class is designed to help you get moving\, be motivated\, and face your day with positivity! Accessible for all levels\, this class will help you jump-start your morning\, or help you to refocus when mornings are hectic.
URL:https://prayanacoaching.com/event/rise-shine-yoga-43/
LOCATION:Be Spa\, 241 Three Springs Dr. Ste 5-7\, Weirton\, WV\, 26062\, United States
CATEGORIES:Weekly Classes
ATTACH;FMTTYPE=image/png:https://prayanacoaching.com/wp-content/uploads/2021/07/Untitled-design16.png
END:VEVENT
END:VCALENDAR