BEGIN:VCALENDAR
VERSION:2.0
PRODID:-//Prayana - ECPv6.15.20//NONSGML v1.0//EN
CALSCALE:GREGORIAN
METHOD:PUBLISH
X-ORIGINAL-URL:https://prayanacoaching.com
X-WR-CALDESC:Events for Prayana
REFRESH-INTERVAL;VALUE=DURATION:PT1H
X-Robots-Tag:noindex
X-PUBLISHED-TTL:PT1H
BEGIN:VTIMEZONE
TZID:America/New_York
BEGIN:DAYLIGHT
TZOFFSETFROM:-0500
TZOFFSETTO:-0400
TZNAME:EDT
DTSTART:20200308T070000
END:DAYLIGHT
BEGIN:STANDARD
TZOFFSETFROM:-0400
TZOFFSETTO:-0500
TZNAME:EST
DTSTART:20201101T060000
END:STANDARD
BEGIN:DAYLIGHT
TZOFFSETFROM:-0500
TZOFFSETTO:-0400
TZNAME:EDT
DTSTART:20210314T070000
END:DAYLIGHT
BEGIN:STANDARD
TZOFFSETFROM:-0400
TZOFFSETTO:-0500
TZNAME:EST
DTSTART:20211107T060000
END:STANDARD
BEGIN:DAYLIGHT
TZOFFSETFROM:-0500
TZOFFSETTO:-0400
TZNAME:EDT
DTSTART:20220313T070000
END:DAYLIGHT
BEGIN:STANDARD
TZOFFSETFROM:-0400
TZOFFSETTO:-0500
TZNAME:EST
DTSTART:20221106T060000
END:STANDARD
END:VTIMEZONE
BEGIN:VEVENT
DTSTART;TZID=America/New_York:20211021T183000
DTEND;TZID=America/New_York:20211021T193000
DTSTAMP:20260425T192149
CREATED:20210927T131730Z
LAST-MODIFIED:20210927T131730Z
UID:1073-1634841000-1634844600@prayanacoaching.com
SUMMARY:Empowering Yoga
DESCRIPTION:This practice is focused on strength\, both mental and physical. Yes\, it’s a workout\, but you’ll discover more than just physical benefits! Find enhanced mental clarity\, elevated mood\, empowered spirit\, and renewed energy. Beginners welcome!
URL:https://prayanacoaching.com/event/empowering-yoga-32/
LOCATION:Be Spa\, 241 Three Springs Dr. Ste 5-7\, Weirton\, WV\, 26062\, United States
CATEGORIES:Weekly Classes
ATTACH;FMTTYPE=image/png:https://prayanacoaching.com/wp-content/uploads/2021/04/Untitled-design11.png
ORGANIZER;CN="Katie Short":MAILTO:katieshort@prayanacoaching.com
END:VEVENT
BEGIN:VEVENT
DTSTART;TZID=America/New_York:20211021T090000
DTEND;TZID=America/New_York:20211021T100000
DTSTAMP:20260425T192149
CREATED:20210927T131558Z
LAST-MODIFIED:20210927T131558Z
UID:1071-1634806800-1634810400@prayanacoaching.com
SUMMARY:Back Bliss Yoga
DESCRIPTION:Find release\, relief\, and restoration for sore backs\, hips\, and necks! This class makes use of our padded slings\, thick blankets\, and other supportive tools to help you find deeper stretch\, balanced alignment\, and many other long-lasting benefits. Katie is specially trained to help those recovering from back injury\, with scoliosis\, or with other chronic back issues once your doctor says it’s safe to move!
URL:https://prayanacoaching.com/event/back-bliss-yoga-29/
LOCATION:Be Spa\, 241 Three Springs Dr. Ste 5-7\, Weirton\, WV\, 26062\, United States
CATEGORIES:Weekly Classes
ATTACH;FMTTYPE=image/png:https://prayanacoaching.com/wp-content/uploads/2021/05/Untitled-design34.png
ORGANIZER;CN="Katie Short":MAILTO:katieshort@prayanacoaching.com
END:VEVENT
BEGIN:VEVENT
DTSTART;TZID=America/New_York:20211021T080000
DTEND;TZID=America/New_York:20211021T090000
DTSTAMP:20260425T192149
CREATED:20210927T131434Z
LAST-MODIFIED:20210927T131434Z
UID:1069-1634803200-1634806800@prayanacoaching.com
SUMMARY:Rise & Shine Yoga
DESCRIPTION:A gentle but invigorating practice\, this class is designed to help you get moving\, be motivated\, and face your day with positivity! Accessible for all levels\, this class will help you jump-start your morning\, or help you to refocus when mornings are hectic.
URL:https://prayanacoaching.com/event/rise-shine-yoga-23/
LOCATION:Be Spa\, 241 Three Springs Dr. Ste 5-7\, Weirton\, WV\, 26062\, United States
CATEGORIES:Weekly Classes
ATTACH;FMTTYPE=image/png:https://prayanacoaching.com/wp-content/uploads/2021/05/Untitled-design32.png
ORGANIZER;CN="Katie Short":MAILTO:katieshort@prayanacoaching.com
END:VEVENT
BEGIN:VEVENT
DTSTART;TZID=America/New_York:20211020T100000
DTEND;TZID=America/New_York:20211020T110000
DTSTAMP:20260425T192149
CREATED:20210927T131317Z
LAST-MODIFIED:20210927T131317Z
UID:1067-1634724000-1634727600@prayanacoaching.com
SUMMARY:Gentle Yoga
DESCRIPTION:Stretch\, breathe\, release\, repeat. An excellent class for beginners and advanced yogis alike\, Gentle Yoga is what it says! No pretzel-twisted poses\, no standing on one toe\, no marathon stretches. This is a peaceful\, guided practice to help focus your mind\, relieve tension\, and enhance flexibility.
URL:https://prayanacoaching.com/event/gentle-yoga-72/
LOCATION:Be Spa\, 241 Three Springs Dr. Ste 5-7\, Weirton\, WV\, 26062\, United States
CATEGORIES:Weekly Classes
ATTACH;FMTTYPE=image/png:https://prayanacoaching.com/wp-content/uploads/2021/04/Untitled-design14.png
ORGANIZER;CN="Katie Short":MAILTO:katieshort@prayanacoaching.com
END:VEVENT
BEGIN:VEVENT
DTSTART;TZID=America/New_York:20211019T190000
DTEND;TZID=America/New_York:20211019T200000
DTSTAMP:20260425T192149
CREATED:20210927T131156Z
LAST-MODIFIED:20210927T131156Z
UID:1065-1634670000-1634673600@prayanacoaching.com
SUMMARY:Gentle Yoga
DESCRIPTION:Stretch\, breathe\, release\, repeat. An excellent class for beginners and advanced yogis alike\, Gentle Yoga is what it says! No pretzel-twisted poses\, no standing on one toe\, no marathon stretches. This is a peaceful\, guided practice to help focus your mind\, relieve tension\, and enhance flexibility.
URL:https://prayanacoaching.com/event/gentle-yoga-71/
LOCATION:Be Spa\, 241 Three Springs Dr. Ste 5-7\, Weirton\, WV\, 26062\, United States
CATEGORIES:Weekly Classes
ORGANIZER;CN="Katie Short":MAILTO:katieshort@prayanacoaching.com
END:VEVENT
BEGIN:VEVENT
DTSTART;TZID=America/New_York:20211019T180000
DTEND;TZID=America/New_York:20211019T190000
DTSTAMP:20260425T192149
CREATED:20210927T130937Z
LAST-MODIFIED:20210927T130937Z
UID:1063-1634666400-1634670000@prayanacoaching.com
SUMMARY:Empowering Yoga
DESCRIPTION:This practice is focused on strength\, both mental and physical. Yes\, it’s a workout\, but you’ll discover more than just physical benefits! Find enhanced mental clarity\, elevated mood\, empowered spirit\, and renewed energy. Beginners welcome!
URL:https://prayanacoaching.com/event/empowering-yoga-31/
LOCATION:Be Spa\, 241 Three Springs Dr. Ste 5-7\, Weirton\, WV\, 26062\, United States
CATEGORIES:Weekly Classes
ATTACH;FMTTYPE=image/png:https://prayanacoaching.com/wp-content/uploads/2021/04/Untitled-design11.png
ORGANIZER;CN="Katie Short":MAILTO:katieshort@prayanacoaching.com
END:VEVENT
BEGIN:VEVENT
DTSTART;TZID=America/New_York:20211019T100000
DTEND;TZID=America/New_York:20211019T110000
DTSTAMP:20260425T192149
CREATED:20210927T130621Z
LAST-MODIFIED:20210927T130621Z
UID:1059-1634637600-1634641200@prayanacoaching.com
SUMMARY:Gentle Yoga
DESCRIPTION:A gentle but invigorating practice\, this class is designed to help you get moving\, be motivated\, and face your day with positivity! Accessible for all levels\, this class will help you jump-start your morning\, or help you to refocus when mornings are hectic.
URL:https://prayanacoaching.com/event/gentle-yoga-70/
LOCATION:Be Spa\, 241 Three Springs Dr. Ste 5-7\, Weirton\, WV\, 26062\, United States
CATEGORIES:Weekly Classes
ORGANIZER;CN="Katie Short":MAILTO:katieshort@prayanacoaching.com
END:VEVENT
BEGIN:VEVENT
DTSTART;TZID=America/New_York:20211019T090000
DTEND;TZID=America/New_York:20211019T100000
DTSTAMP:20260425T192149
CREATED:20210927T130740Z
LAST-MODIFIED:20211003T172320Z
UID:1061-1634634000-1634637600@prayanacoaching.com
SUMMARY:Back Bliss Yoga
DESCRIPTION:Find release\, relief\, and restoration for sore backs\, hips\, and necks! This class makes use of our padded slings\, thick blankets\, and other supportive tools to help you find deeper stretch\, balanced alignment\, and many other long-lasting benefits. Katie is specially trained to help those recovering from back injury\, with scoliosis\, or with other chronic back issues once your doctor says it’s safe to move!
URL:https://prayanacoaching.com/event/explore-meditation-3/
LOCATION:Be Spa\, 241 Three Springs Dr. Ste 5-7\, Weirton\, WV\, 26062\, United States
CATEGORIES:Weekly Classes
ATTACH;FMTTYPE=image/png:https://prayanacoaching.com/wp-content/uploads/2021/04/Untitled-design15.png
ORGANIZER;CN="Katie Short":MAILTO:katieshort@prayanacoaching.com
END:VEVENT
BEGIN:VEVENT
DTSTART;TZID=America/New_York:20211018T190000
DTEND;TZID=America/New_York:20211018T200000
DTSTAMP:20260425T192149
CREATED:20210927T130502Z
LAST-MODIFIED:20210927T130502Z
UID:1057-1634583600-1634587200@prayanacoaching.com
SUMMARY:Back Bliss Yoga
DESCRIPTION:Find release\, relief\, and restoration for sore backs\, hips\, and necks! This class makes use of our padded slings\, thick blankets\, and other supportive tools to help you find deeper stretch\, balanced alignment\, and many other long-lasting benefits. Katie is specially trained to help those recovering from back injury\, with scoliosis\, or with other chronic back issues once your doctor says it’s safe to move!
URL:https://prayanacoaching.com/event/back-bliss-yoga-28/
LOCATION:Be Spa\, 241 Three Springs Dr. Ste 5-7\, Weirton\, WV\, 26062\, United States
CATEGORIES:Weekly Classes
ATTACH;FMTTYPE=image/png:https://prayanacoaching.com/wp-content/uploads/2021/05/Untitled-design34.png
ORGANIZER;CN="Katie Short":MAILTO:katieshort@prayanacoaching.com
END:VEVENT
BEGIN:VEVENT
DTSTART;TZID=America/New_York:20211018T180000
DTEND;TZID=America/New_York:20211018T190000
DTSTAMP:20260425T192149
CREATED:20210927T130330Z
LAST-MODIFIED:20210927T130330Z
UID:1055-1634580000-1634583600@prayanacoaching.com
SUMMARY:Empowering Yoga
DESCRIPTION:This practice is focused on strength\, both mental and physical. Yes\, it’s a workout\, but you’ll discover more than just physical benefits! Find enhanced mental clarity\, elevated mood\, empowered spirit\, and renewed energy. Beginners welcome!
URL:https://prayanacoaching.com/event/empowering-yoga-30/
LOCATION:Be Spa\, 241 Three Springs Dr. Ste 5-7\, Weirton\, WV\, 26062\, United States
CATEGORIES:Weekly Classes
ATTACH;FMTTYPE=image/png:https://prayanacoaching.com/wp-content/uploads/2021/04/Untitled-design11.png
ORGANIZER;CN="Katie Short":MAILTO:katieshort@prayanacoaching.com
END:VEVENT
BEGIN:VEVENT
DTSTART;TZID=America/New_York:20211017T170000
DTEND;TZID=America/New_York:20211017T180000
DTSTAMP:20260425T192149
CREATED:20210927T130114Z
LAST-MODIFIED:20210927T130114Z
UID:1053-1634490000-1634493600@prayanacoaching.com
SUMMARY:Empowering Yoga
DESCRIPTION:This practice is focused on strength\, both mental and physical. Yes\, it’s a workout\, but you’ll discover more than just physical benefits! Find enhanced mental clarity\, elevated mood\, empowered spirit\, and renewed energy. Beginners welcome!
URL:https://prayanacoaching.com/event/empowering-yoga-29/
LOCATION:Be Spa\, 241 Three Springs Dr. Ste 5-7\, Weirton\, WV\, 26062\, United States
CATEGORIES:Weekly Classes
ATTACH;FMTTYPE=image/png:https://prayanacoaching.com/wp-content/uploads/2021/04/Untitled-design11.png
ORGANIZER;CN="Katie Short":MAILTO:katieshort@prayanacoaching.com
END:VEVENT
BEGIN:VEVENT
DTSTART;TZID=America/New_York:20211015T100000
DTEND;TZID=America/New_York:20211015T110000
DTSTAMP:20260425T192149
CREATED:20210927T125442Z
LAST-MODIFIED:20210927T125442Z
UID:1051-1634292000-1634295600@prayanacoaching.com
SUMMARY:Gentle Yoga
DESCRIPTION:Stretch\, breathe\, release\, repeat. An excellent class for beginners and advanced yogis alike\, Gentle Yoga is what it says! No pretzel-twisted poses\, no standing on one toe\, no marathon stretches. This is a peaceful\, guided practice to help focus your mind\, relieve tension\, and enhance flexibility.
URL:https://prayanacoaching.com/event/gentle-yoga-69/
LOCATION:Be Spa\, 241 Three Springs Dr. Ste 5-7\, Weirton\, WV\, 26062\, United States
CATEGORIES:Weekly Classes
ATTACH;FMTTYPE=image/png:https://prayanacoaching.com/wp-content/uploads/2021/04/Untitled-design14.png
ORGANIZER;CN="Katie Short":MAILTO:katieshort@prayanacoaching.com
END:VEVENT
BEGIN:VEVENT
DTSTART;TZID=America/New_York:20211015T090000
DTEND;TZID=America/New_York:20211015T100000
DTSTAMP:20260425T192149
CREATED:20210927T125325Z
LAST-MODIFIED:20210927T125325Z
UID:1049-1634288400-1634292000@prayanacoaching.com
SUMMARY:Empowering Yoga
DESCRIPTION:This practice is focused on strength\, both mental and physical. Yes\, it’s a workout\, but you’ll discover more than just physical benefits! Find enhanced mental clarity\, elevated mood\, empowered spirit\, and renewed energy. Beginners welcome!
URL:https://prayanacoaching.com/event/empowering-yoga-28/
LOCATION:Be Spa\, 241 Three Springs Dr. Ste 5-7\, Weirton\, WV\, 26062\, United States
CATEGORIES:Weekly Classes
ATTACH;FMTTYPE=image/png:https://prayanacoaching.com/wp-content/uploads/2021/04/Untitled-design11.png
ORGANIZER;CN="Katie Short":MAILTO:katieshort@prayanacoaching.com
END:VEVENT
BEGIN:VEVENT
DTSTART;TZID=America/New_York:20211014T183000
DTEND;TZID=America/New_York:20211014T193000
DTSTAMP:20260425T192149
CREATED:20210927T125150Z
LAST-MODIFIED:20210927T125150Z
UID:1047-1634236200-1634239800@prayanacoaching.com
SUMMARY:Empowering Yoga
DESCRIPTION:This practice is focused on strength\, both mental and physical. Yes\, it’s a workout\, but you’ll discover more than just physical benefits! Find enhanced mental clarity\, elevated mood\, empowered spirit\, and renewed energy. Beginners welcome!
URL:https://prayanacoaching.com/event/empowering-yoga-27/
LOCATION:Be Spa\, 241 Three Springs Dr. Ste 5-7\, Weirton\, WV\, 26062\, United States
CATEGORIES:Weekly Classes
ATTACH;FMTTYPE=image/png:https://prayanacoaching.com/wp-content/uploads/2021/04/Untitled-design11.png
ORGANIZER;CN="Katie Short":MAILTO:katieshort@prayanacoaching.com
END:VEVENT
BEGIN:VEVENT
DTSTART;TZID=America/New_York:20211014T090000
DTEND;TZID=America/New_York:20211014T100000
DTSTAMP:20260425T192149
CREATED:20210927T125024Z
LAST-MODIFIED:20210927T125025Z
UID:1045-1634202000-1634205600@prayanacoaching.com
SUMMARY:Back Bliss Yoga
DESCRIPTION:Find release\, relief\, and restoration for sore backs\, hips\, and necks! This class makes use of our padded slings\, thick blankets\, and other supportive tools to help you find deeper stretch\, balanced alignment\, and many other long-lasting benefits. Katie is specially trained to help those recovering from back injury\, with scoliosis\, or with other chronic back issues once your doctor says it’s safe to move!
URL:https://prayanacoaching.com/event/back-bliss-yoga-27/
LOCATION:Be Spa\, 241 Three Springs Dr. Ste 5-7\, Weirton\, WV\, 26062\, United States
CATEGORIES:Weekly Classes
ORGANIZER;CN="Katie Short":MAILTO:katieshort@prayanacoaching.com
END:VEVENT
BEGIN:VEVENT
DTSTART;TZID=America/New_York:20211014T080000
DTEND;TZID=America/New_York:20211014T090000
DTSTAMP:20260425T192149
CREATED:20210927T124901Z
LAST-MODIFIED:20210927T124901Z
UID:1043-1634198400-1634202000@prayanacoaching.com
SUMMARY:Rise & Shine Yoga
DESCRIPTION:A gentle but invigorating practice\, this class is designed to help you get moving\, be motivated\, and face your day with positivity! Accessible for all levels\, this class will help you jump-start your morning\, or help you to refocus when mornings are hectic.
URL:https://prayanacoaching.com/event/rise-shine-yoga-22/
LOCATION:Be Spa\, 241 Three Springs Dr. Ste 5-7\, Weirton\, WV\, 26062\, United States
CATEGORIES:Weekly Classes
ORGANIZER;CN="Katie Short":MAILTO:katieshort@prayanacoaching.com
END:VEVENT
BEGIN:VEVENT
DTSTART;TZID=America/New_York:20211013T100000
DTEND;TZID=America/New_York:20211013T110000
DTSTAMP:20260425T192149
CREATED:20210927T124736Z
LAST-MODIFIED:20210927T124736Z
UID:1041-1634119200-1634122800@prayanacoaching.com
SUMMARY:Gentle Yoga
DESCRIPTION:Stretch\, breathe\, release\, repeat. An excellent class for beginners and advanced yogis alike\, Gentle Yoga is what it says! No pretzel-twisted poses\, no standing on one toe\, no marathon stretches. This is a peaceful\, guided practice to help focus your mind\, relieve tension\, and enhance flexibility.
URL:https://prayanacoaching.com/event/gentle-yoga-68/
LOCATION:Be Spa\, 241 Three Springs Dr. Ste 5-7\, Weirton\, WV\, 26062\, United States
CATEGORIES:Weekly Classes
ATTACH;FMTTYPE=image/png:https://prayanacoaching.com/wp-content/uploads/2021/04/Untitled-design14.png
ORGANIZER;CN="Katie Short":MAILTO:katieshort@prayanacoaching.com
END:VEVENT
BEGIN:VEVENT
DTSTART;TZID=America/New_York:20211012T190000
DTEND;TZID=America/New_York:20211012T200000
DTSTAMP:20260425T192149
CREATED:20210927T124616Z
LAST-MODIFIED:20210927T124616Z
UID:1039-1634065200-1634068800@prayanacoaching.com
SUMMARY:Gentle Yoga
DESCRIPTION:Stretch\, breathe\, release\, repeat. An excellent class for beginners and advanced yogis alike\, Gentle Yoga is what it says! No pretzel-twisted poses\, no standing on one toe\, no marathon stretches. This is a peaceful\, guided practice to help focus your mind\, relieve tension\, and enhance flexibility.
URL:https://prayanacoaching.com/event/gentle-yoga-67/
LOCATION:Be Spa\, 241 Three Springs Dr. Ste 5-7\, Weirton\, WV\, 26062\, United States
CATEGORIES:Weekly Classes
ATTACH;FMTTYPE=image/png:https://prayanacoaching.com/wp-content/uploads/2021/04/Untitled-design14.png
ORGANIZER;CN="Katie Short":MAILTO:katieshort@prayanacoaching.com
END:VEVENT
BEGIN:VEVENT
DTSTART;TZID=America/New_York:20211012T180000
DTEND;TZID=America/New_York:20211012T190000
DTSTAMP:20260425T192149
CREATED:20210927T124437Z
LAST-MODIFIED:20210927T124437Z
UID:1037-1634061600-1634065200@prayanacoaching.com
SUMMARY:Empowering Yoga
DESCRIPTION:This practice is focused on strength\, both mental and physical. Yes\, it’s a workout\, but you’ll discover more than just physical benefits! Find enhanced mental clarity\, elevated mood\, empowered spirit\, and renewed energy. Beginners welcome!
URL:https://prayanacoaching.com/event/empowering-yoga-26/
LOCATION:Be Spa\, 241 Three Springs Dr. Ste 5-7\, Weirton\, WV\, 26062\, United States
CATEGORIES:Weekly Classes
ATTACH;FMTTYPE=image/png:https://prayanacoaching.com/wp-content/uploads/2021/04/Untitled-design11.png
ORGANIZER;CN="Katie Short":MAILTO:katieshort@prayanacoaching.com
END:VEVENT
BEGIN:VEVENT
DTSTART;TZID=America/New_York:20211012T100000
DTEND;TZID=America/New_York:20211012T110000
DTSTAMP:20260425T192149
CREATED:20210927T124322Z
LAST-MODIFIED:20210927T124322Z
UID:1035-1634032800-1634036400@prayanacoaching.com
SUMMARY:Gentle Yoga
DESCRIPTION:Stretch\, breathe\, release\, repeat. An excellent class for beginners and advanced yogis alike\, Gentle Yoga is what it says! No pretzel-twisted poses\, no standing on one toe\, no marathon stretches. This is a peaceful\, guided practice to help focus your mind\, relieve tension\, and enhance flexibility.
URL:https://prayanacoaching.com/event/gentle-yoga-66/
LOCATION:Be Spa\, 241 Three Springs Dr. Ste 5-7\, Weirton\, WV\, 26062\, United States
CATEGORIES:Weekly Classes
ORGANIZER;CN="Katie Short":MAILTO:katieshort@prayanacoaching.com
END:VEVENT
BEGIN:VEVENT
DTSTART;TZID=America/New_York:20211012T090000
DTEND;TZID=America/New_York:20211012T100000
DTSTAMP:20260425T192149
CREATED:20210927T124159Z
LAST-MODIFIED:20211003T172421Z
UID:1033-1634029200-1634032800@prayanacoaching.com
SUMMARY:Back Bliss Yoga
DESCRIPTION:Find release\, relief\, and restoration for sore backs\, hips\, and necks! This class makes use of our padded slings\, thick blankets\, and other supportive tools to help you find deeper stretch\, balanced alignment\, and many other long-lasting benefits. Katie is specially trained to help those recovering from back injury\, with scoliosis\, or with other chronic back issues once your doctor says it’s safe to move!
URL:https://prayanacoaching.com/event/explore-meditation-2/
LOCATION:Be Spa\, 241 Three Springs Dr. Ste 5-7\, Weirton\, WV\, 26062\, United States
CATEGORIES:Weekly Classes
ATTACH;FMTTYPE=image/png:https://prayanacoaching.com/wp-content/uploads/2021/04/Untitled-design15.png
ORGANIZER;CN="Katie Short":MAILTO:katieshort@prayanacoaching.com
END:VEVENT
BEGIN:VEVENT
DTSTART;TZID=America/New_York:20211012T080000
DTEND;TZID=America/New_York:20211012T090000
DTSTAMP:20260425T192149
CREATED:20210927T124028Z
LAST-MODIFIED:20210927T124028Z
UID:1031-1634025600-1634029200@prayanacoaching.com
SUMMARY:Rise & Shine Yoga
DESCRIPTION:A gentle but invigorating practice\, this class is designed to help you get moving\, be motivated\, and face your day with positivity! Accessible for all levels\, this class will help you jump-start your morning\, or help you to refocus when mornings are hectic.
URL:https://prayanacoaching.com/event/rise-shine-yoga-21/
LOCATION:Be Spa\, 241 Three Springs Dr. Ste 5-7\, Weirton\, WV\, 26062\, United States
CATEGORIES:Weekly Classes
ORGANIZER;CN="Katie Short":MAILTO:katieshort@prayanacoaching.com
END:VEVENT
BEGIN:VEVENT
DTSTART;TZID=America/New_York:20211009T100000
DTEND;TZID=America/New_York:20211009T110000
DTSTAMP:20260425T192149
CREATED:20210927T123826Z
LAST-MODIFIED:20210927T123826Z
UID:1029-1633773600-1633777200@prayanacoaching.com
SUMMARY:Morning Flow Yoga
DESCRIPTION:I’ll be subbing for Brooke Colavecchia to bring you a beautiful way to start your weekend! A gentle flow to wake body and mind\, connect breath and movement\, and find intention and purpose in your heart.
URL:https://prayanacoaching.com/event/morning-flow-yoga-2/
LOCATION:Be Spa\, 241 Three Springs Dr. Ste 5-7\, Weirton\, WV\, 26062\, United States
CATEGORIES:Weekly Classes
ATTACH;FMTTYPE=image/png:https://prayanacoaching.com/wp-content/uploads/2021/04/Untitled-design13.png
ORGANIZER;CN="Katie Short":MAILTO:katieshort@prayanacoaching.com
END:VEVENT
BEGIN:VEVENT
DTSTART;TZID=America/New_York:20211008T100000
DTEND;TZID=America/New_York:20211008T110000
DTSTAMP:20260425T192149
CREATED:20210927T123257Z
LAST-MODIFIED:20210927T123257Z
UID:1027-1633687200-1633690800@prayanacoaching.com
SUMMARY:Gentle Yoga
DESCRIPTION:Stretch\, breathe\, release\, repeat. An excellent class for beginners and advanced yogis alike\, Gentle Yoga is what it says! No pretzel-twisted poses\, no standing on one toe\, no marathon stretches. This is a peaceful\, guided practice to help focus your mind\, relieve tension\, and enhance flexibility.
URL:https://prayanacoaching.com/event/gentle-yoga-65/
LOCATION:Be Spa\, 241 Three Springs Dr. Ste 5-7\, Weirton\, WV\, 26062\, United States
CATEGORIES:Weekly Classes
ATTACH;FMTTYPE=image/png:https://prayanacoaching.com/wp-content/uploads/2021/04/Untitled-design14.png
ORGANIZER;CN="Katie Short":MAILTO:katieshort@prayanacoaching.com
END:VEVENT
BEGIN:VEVENT
DTSTART;TZID=America/New_York:20211008T090000
DTEND;TZID=America/New_York:20211008T100000
DTSTAMP:20260425T192149
CREATED:20210927T123126Z
LAST-MODIFIED:20210927T123126Z
UID:1025-1633683600-1633687200@prayanacoaching.com
SUMMARY:Empowering Yoga
DESCRIPTION:This practice is focused on strength\, both mental and physical. Yes\, it’s a workout\, but you’ll discover more than just physical benefits! Find enhanced mental clarity\, elevated mood\, empowered spirit\, and renewed energy. Beginners welcome!
URL:https://prayanacoaching.com/event/empowering-yoga-25/
LOCATION:Be Spa\, 241 Three Springs Dr. Ste 5-7\, Weirton\, WV\, 26062\, United States
CATEGORIES:Weekly Classes
ORGANIZER;CN="Katie Short":MAILTO:katieshort@prayanacoaching.com
END:VEVENT
BEGIN:VEVENT
DTSTART;TZID=America/New_York:20211007T183000
DTEND;TZID=America/New_York:20211007T183000
DTSTAMP:20260425T192149
CREATED:20210927T123001Z
LAST-MODIFIED:20210927T123001Z
UID:1023-1633631400-1633631400@prayanacoaching.com
SUMMARY:Empowering Yoga
DESCRIPTION:This practice is focused on strength\, both mental and physical. Yes\, it’s a workout\, but you’ll discover more than just physical benefits! Find enhanced mental clarity\, elevated mood\, empowered spirit\, and renewed energy. Beginners welcome!
URL:https://prayanacoaching.com/event/empowering-yoga-24/
LOCATION:Be Spa\, 241 Three Springs Dr. Ste 5-7\, Weirton\, WV\, 26062\, United States
CATEGORIES:Weekly Classes
ORGANIZER;CN="Katie Short":MAILTO:katieshort@prayanacoaching.com
END:VEVENT
BEGIN:VEVENT
DTSTART;TZID=America/New_York:20211007T090000
DTEND;TZID=America/New_York:20211007T100000
DTSTAMP:20260425T192149
CREATED:20210927T122835Z
LAST-MODIFIED:20210927T122835Z
UID:1021-1633597200-1633600800@prayanacoaching.com
SUMMARY:Back Bliss Yoga
DESCRIPTION:Find release\, relief\, and restoration for sore backs\, hips\, and necks! This class makes use of our padded slings\, thick blankets\, and other supportive tools to help you find deeper stretch\, balanced alignment\, and many other long-lasting benefits. Katie is specially trained to help those recovering from back injury\, with scoliosis\, or with other chronic back issues once your doctor says it’s safe to move!
URL:https://prayanacoaching.com/event/back-bliss-yoga-26/
LOCATION:Be Spa\, 241 Three Springs Dr. Ste 5-7\, Weirton\, WV\, 26062\, United States
CATEGORIES:Weekly Classes
ATTACH;FMTTYPE=image/png:https://prayanacoaching.com/wp-content/uploads/2021/05/Untitled-design34.png
ORGANIZER;CN="Katie Short":MAILTO:katieshort@prayanacoaching.com
END:VEVENT
BEGIN:VEVENT
DTSTART;TZID=America/New_York:20211007T080000
DTEND;TZID=America/New_York:20211007T090000
DTSTAMP:20260425T192149
CREATED:20210927T122720Z
LAST-MODIFIED:20210927T122720Z
UID:1019-1633593600-1633597200@prayanacoaching.com
SUMMARY:Rise & Shine Yoga
DESCRIPTION:A gentle but invigorating practice\, this class is designed to help you get moving\, be motivated\, and face your day with positivity! Accessible for all levels\, this class will help you jump-start your morning\, or help you to refocus when mornings are hectic.
URL:https://prayanacoaching.com/event/rise-shine-yoga-20/
LOCATION:Be Spa\, 241 Three Springs Dr. Ste 5-7\, Weirton\, WV\, 26062\, United States
CATEGORIES:Weekly Classes
ORGANIZER;CN="Katie Short":MAILTO:katieshort@prayanacoaching.com
END:VEVENT
BEGIN:VEVENT
DTSTART;TZID=America/New_York:20211006T100000
DTEND;TZID=America/New_York:20211006T110000
DTSTAMP:20260425T192149
CREATED:20210927T122529Z
LAST-MODIFIED:20210927T122529Z
UID:1017-1633514400-1633518000@prayanacoaching.com
SUMMARY:Gentle Yoga
DESCRIPTION:Stretch\, breathe\, release\, repeat. An excellent class for beginners and advanced yogis alike\, Gentle Yoga is what it says! No pretzel-twisted poses\, no standing on one toe\, no marathon stretches. This is a peaceful\, guided practice to help focus your mind\, relieve tension\, and enhance flexibility.
URL:https://prayanacoaching.com/event/gentle-yoga-64/
LOCATION:Be Spa\, 241 Three Springs Dr. Ste 5-7\, Weirton\, WV\, 26062\, United States
CATEGORIES:Weekly Classes
ATTACH;FMTTYPE=image/png:https://prayanacoaching.com/wp-content/uploads/2021/04/Untitled-design14.png
ORGANIZER;CN="Katie Short":MAILTO:katieshort@prayanacoaching.com
END:VEVENT
BEGIN:VEVENT
DTSTART;TZID=America/New_York:20211005T190000
DTEND;TZID=America/New_York:20211005T200000
DTSTAMP:20260425T192149
CREATED:20210927T122317Z
LAST-MODIFIED:20210927T122317Z
UID:1015-1633460400-1633464000@prayanacoaching.com
SUMMARY:Gentle Yoga
DESCRIPTION:Stretch\, breathe\, release\, repeat. An excellent class for beginners and advanced yogis alike\, Gentle Yoga is what it says! No pretzel-twisted poses\, no standing on one toe\, no marathon stretches. This is a peaceful\, guided practice to help focus your mind\, relieve tension\, and enhance flexibility.
URL:https://prayanacoaching.com/event/gentle-yoga-63/
LOCATION:Be Spa\, 241 Three Springs Dr. Ste 5-7\, Weirton\, WV\, 26062\, United States
CATEGORIES:Weekly Classes
ORGANIZER;CN="Katie Short":MAILTO:katieshort@prayanacoaching.com
END:VEVENT
END:VCALENDAR